BEGIN:VCALENDAR
VERSION:2.0
PRODID:-//Actecir - ECPv6.15.18//NONSGML v1.0//EN
CALSCALE:GREGORIAN
METHOD:PUBLISH
X-WR-CALNAME:Actecir
X-ORIGINAL-URL:https://www.actecir.cat/es/
X-WR-CALDESC:Eventos para Actecir
REFRESH-INTERVAL;VALUE=DURATION:PT1H
X-Robots-Tag:noindex
X-PUBLISHED-TTL:PT1H
BEGIN:VTIMEZONE
TZID:Europe/Madrid
BEGIN:DAYLIGHT
TZOFFSETFROM:+0100
TZOFFSETTO:+0200
TZNAME:CEST
DTSTART:20230326T010000
END:DAYLIGHT
BEGIN:STANDARD
TZOFFSETFROM:+0200
TZOFFSETTO:+0100
TZNAME:CET
DTSTART:20231029T010000
END:STANDARD
BEGIN:DAYLIGHT
TZOFFSETFROM:+0100
TZOFFSETTO:+0200
TZNAME:CEST
DTSTART:20240331T010000
END:DAYLIGHT
BEGIN:STANDARD
TZOFFSETFROM:+0200
TZOFFSETTO:+0100
TZNAME:CET
DTSTART:20241027T010000
END:STANDARD
BEGIN:DAYLIGHT
TZOFFSETFROM:+0100
TZOFFSETTO:+0200
TZNAME:CEST
DTSTART:20250330T010000
END:DAYLIGHT
BEGIN:STANDARD
TZOFFSETFROM:+0200
TZOFFSETTO:+0100
TZNAME:CET
DTSTART:20251026T010000
END:STANDARD
END:VTIMEZONE
BEGIN:VEVENT
DTSTART;TZID=Europe/Madrid:20240402T160000
DTEND;TZID=Europe/Madrid:20240402T200000
DTSTAMP:20260426T051846
CREATED:20240126T102333Z
LAST-MODIFIED:20240126T102333Z
UID:10001425-1712073600-1712088000@www.actecir.cat
SUMMARY:6º Curso de Instalaciones Frigoríficas con CO2
DESCRIPTION:
URL:https://www.actecir.cat/es/event/6o-curso-de-instalaciones-frigorificas-con-co2/2024-04-02/
LOCATION:ONLINE
CATEGORIES:Curso
ATTACH;FMTTYPE=image/jpeg:https://www.actecir.cat/wp-content/uploads/2024/01/CO2_2024_banner_cat.jpg
END:VEVENT
BEGIN:VEVENT
DTSTART;TZID=Europe/Madrid:20240404T160000
DTEND;TZID=Europe/Madrid:20240404T200000
DTSTAMP:20260426T051846
CREATED:20240307T123633Z
LAST-MODIFIED:20240307T123634Z
UID:10001431-1712246400-1712260800@www.actecir.cat
SUMMARY:1º edición Curso de Instalaciones de Agua Caliente Sanitaria
DESCRIPTION:
URL:https://www.actecir.cat/es/event/1o-edicion-curso-de-instalaciones-de-agua-caliente-sanitaria/2024-04-04/
LOCATION:Seu ACTECIR Fira de Barcelona
CATEGORIES:Curso
ATTACH;FMTTYPE=image/jpeg:https://www.actecir.cat/wp-content/uploads/2024/03/CURS_ACS_CAST.jpg
ORGANIZER;CN="ACTECIR":MAILTO:actecir@actecir.cat
END:VEVENT
BEGIN:VEVENT
DTSTART;TZID=Europe/Madrid:20240411T160000
DTEND;TZID=Europe/Madrid:20240411T200000
DTSTAMP:20260426T051846
CREATED:20240126T102333Z
LAST-MODIFIED:20240126T102333Z
UID:10001426-1712851200-1712865600@www.actecir.cat
SUMMARY:6º Curso de Instalaciones Frigoríficas con CO2
DESCRIPTION:
URL:https://www.actecir.cat/es/event/6o-curso-de-instalaciones-frigorificas-con-co2/2024-04-11/
LOCATION:ONLINE
CATEGORIES:Curso
ATTACH;FMTTYPE=image/jpeg:https://www.actecir.cat/wp-content/uploads/2024/01/CO2_2024_banner_cat.jpg
END:VEVENT
BEGIN:VEVENT
DTSTART;TZID=Europe/Madrid:20240411T160000
DTEND;TZID=Europe/Madrid:20240411T200000
DTSTAMP:20260426T051846
CREATED:20240307T123633Z
LAST-MODIFIED:20240307T123634Z
UID:10001432-1712851200-1712865600@www.actecir.cat
SUMMARY:1º edición Curso de Instalaciones de Agua Caliente Sanitaria
DESCRIPTION:
URL:https://www.actecir.cat/es/event/1o-edicion-curso-de-instalaciones-de-agua-caliente-sanitaria/2024-04-11/
LOCATION:Seu ACTECIR Fira de Barcelona
CATEGORIES:Curso
ATTACH;FMTTYPE=image/jpeg:https://www.actecir.cat/wp-content/uploads/2024/03/CURS_ACS_CAST.jpg
ORGANIZER;CN="ACTECIR":MAILTO:actecir@actecir.cat
END:VEVENT
END:VCALENDAR