BEGIN:VCALENDAR
VERSION:2.0
PRODID:-//Actecir - ECPv6.15.18//NONSGML v1.0//EN
CALSCALE:GREGORIAN
METHOD:PUBLISH
X-WR-CALNAME:Actecir
X-ORIGINAL-URL:https://www.actecir.cat/es/
X-WR-CALDESC:Eventos para Actecir
REFRESH-INTERVAL;VALUE=DURATION:PT1H
X-Robots-Tag:noindex
X-PUBLISHED-TTL:PT1H
BEGIN:VTIMEZONE
TZID:Europe/Madrid
BEGIN:DAYLIGHT
TZOFFSETFROM:+0100
TZOFFSETTO:+0200
TZNAME:CEST
DTSTART:20230326T010000
END:DAYLIGHT
BEGIN:STANDARD
TZOFFSETFROM:+0200
TZOFFSETTO:+0100
TZNAME:CET
DTSTART:20231029T010000
END:STANDARD
BEGIN:DAYLIGHT
TZOFFSETFROM:+0100
TZOFFSETTO:+0200
TZNAME:CEST
DTSTART:20240331T010000
END:DAYLIGHT
BEGIN:STANDARD
TZOFFSETFROM:+0200
TZOFFSETTO:+0100
TZNAME:CET
DTSTART:20241027T010000
END:STANDARD
BEGIN:DAYLIGHT
TZOFFSETFROM:+0100
TZOFFSETTO:+0200
TZNAME:CEST
DTSTART:20250330T010000
END:DAYLIGHT
BEGIN:STANDARD
TZOFFSETFROM:+0200
TZOFFSETTO:+0100
TZNAME:CET
DTSTART:20251026T010000
END:STANDARD
END:VTIMEZONE
BEGIN:VEVENT
DTSTART;TZID=Europe/Madrid:20241003T160000
DTEND;TZID=Europe/Madrid:20241003T200000
DTSTAMP:20260425T194241
CREATED:20240916T123333Z
LAST-MODIFIED:20240916T124213Z
UID:10001476-1727971200-1727985600@www.actecir.cat
SUMMARY:Curso Amoníaco 2024
DESCRIPTION:
URL:https://www.actecir.cat/es/event/curs-amoniac-2024/2024-10-03/
LOCATION:ONLINE
CATEGORIES:Curso
ATTACH;FMTTYPE=image/jpeg:https://www.actecir.cat/wp-content/uploads/2024/07/curso_amoniaco_2024.jpg
ORGANIZER;CN="ACTECIR":MAILTO:actecir@actecir.cat
END:VEVENT
BEGIN:VEVENT
DTSTART;TZID=Europe/Madrid:20241009T160000
DTEND;TZID=Europe/Madrid:20241009T200000
DTSTAMP:20260425T194241
CREATED:20240807T114434Z
LAST-MODIFIED:20240807T114434Z
UID:10001451-1728489600-1728504000@www.actecir.cat
SUMMARY:4º Curso de Diseño y Cálculo de Instalaciones de Climatización y Ventilación
DESCRIPTION:
URL:https://www.actecir.cat/es/event/4o-curso-de-diseno-y-calculo-de-instalaciones-de-climatizacion-y-ventilacion/2024-10-09/
LOCATION:ONLINE
CATEGORIES:Curso
ATTACH;FMTTYPE=image/jpeg:https://www.actecir.cat/wp-content/uploads/2024/07/Portada_web_cat.jpg
ORGANIZER;CN="ACTECIR":MAILTO:actecir@actecir.cat
END:VEVENT
BEGIN:VEVENT
DTSTART;TZID=Europe/Madrid:20241010T160000
DTEND;TZID=Europe/Madrid:20241010T200000
DTSTAMP:20260425T194241
CREATED:20240916T123333Z
LAST-MODIFIED:20240916T124213Z
UID:10001477-1728576000-1728590400@www.actecir.cat
SUMMARY:Curso Amoníaco 2024
DESCRIPTION:
URL:https://www.actecir.cat/es/event/curs-amoniac-2024/2024-10-10/
LOCATION:ONLINE
CATEGORIES:Curso
ATTACH;FMTTYPE=image/jpeg:https://www.actecir.cat/wp-content/uploads/2024/07/curso_amoniaco_2024.jpg
ORGANIZER;CN="ACTECIR":MAILTO:actecir@actecir.cat
END:VEVENT
BEGIN:VEVENT
DTSTART;TZID=Europe/Madrid:20241018T160000
DTEND;TZID=Europe/Madrid:20241018T200000
DTSTAMP:20260425T194241
CREATED:20240807T114434Z
LAST-MODIFIED:20240807T114434Z
UID:10001452-1729267200-1729281600@www.actecir.cat
SUMMARY:4º Curso de Diseño y Cálculo de Instalaciones de Climatización y Ventilación
DESCRIPTION:
URL:https://www.actecir.cat/es/event/4o-curso-de-diseno-y-calculo-de-instalaciones-de-climatizacion-y-ventilacion/2024-10-18/
LOCATION:ONLINE
CATEGORIES:Curso
ATTACH;FMTTYPE=image/jpeg:https://www.actecir.cat/wp-content/uploads/2024/07/Portada_web_cat.jpg
ORGANIZER;CN="ACTECIR":MAILTO:actecir@actecir.cat
END:VEVENT
BEGIN:VEVENT
DTSTART;TZID=Europe/Madrid:20241023T160000
DTEND;TZID=Europe/Madrid:20241023T200000
DTSTAMP:20260425T194241
CREATED:20240807T114434Z
LAST-MODIFIED:20240807T114434Z
UID:10001453-1729699200-1729713600@www.actecir.cat
SUMMARY:4º Curso de Diseño y Cálculo de Instalaciones de Climatización y Ventilación
DESCRIPTION:
URL:https://www.actecir.cat/es/event/4o-curso-de-diseno-y-calculo-de-instalaciones-de-climatizacion-y-ventilacion/2024-10-23/
LOCATION:ONLINE
CATEGORIES:Curso
ATTACH;FMTTYPE=image/jpeg:https://www.actecir.cat/wp-content/uploads/2024/07/Portada_web_cat.jpg
ORGANIZER;CN="ACTECIR":MAILTO:actecir@actecir.cat
END:VEVENT
BEGIN:VEVENT
DTSTART;TZID=Europe/Madrid:20241024T160000
DTEND;TZID=Europe/Madrid:20241024T200000
DTSTAMP:20260425T194241
CREATED:20240916T123333Z
LAST-MODIFIED:20240916T124213Z
UID:10001478-1729785600-1729800000@www.actecir.cat
SUMMARY:Curso Amoníaco 2024
DESCRIPTION:
URL:https://www.actecir.cat/es/event/curs-amoniac-2024/2024-10-24/
LOCATION:ONLINE
CATEGORIES:Curso
ATTACH;FMTTYPE=image/jpeg:https://www.actecir.cat/wp-content/uploads/2024/07/curso_amoniaco_2024.jpg
ORGANIZER;CN="ACTECIR":MAILTO:actecir@actecir.cat
END:VEVENT
BEGIN:VEVENT
DTSTART;TZID=Europe/Madrid:20241030T160000
DTEND;TZID=Europe/Madrid:20241030T200000
DTSTAMP:20260425T194241
CREATED:20240807T114434Z
LAST-MODIFIED:20240807T114434Z
UID:10001454-1730304000-1730318400@www.actecir.cat
SUMMARY:4º Curso de Diseño y Cálculo de Instalaciones de Climatización y Ventilación
DESCRIPTION:
URL:https://www.actecir.cat/es/event/4o-curso-de-diseno-y-calculo-de-instalaciones-de-climatizacion-y-ventilacion/2024-10-30/
LOCATION:ONLINE
CATEGORIES:Curso
ATTACH;FMTTYPE=image/jpeg:https://www.actecir.cat/wp-content/uploads/2024/07/Portada_web_cat.jpg
ORGANIZER;CN="ACTECIR":MAILTO:actecir@actecir.cat
END:VEVENT
BEGIN:VEVENT
DTSTART;TZID=Europe/Madrid:20241031T160000
DTEND;TZID=Europe/Madrid:20241031T200000
DTSTAMP:20260425T194241
CREATED:20240916T123333Z
LAST-MODIFIED:20240916T124213Z
UID:10001479-1730390400-1730404800@www.actecir.cat
SUMMARY:Curso Amoníaco 2024
DESCRIPTION:
URL:https://www.actecir.cat/es/event/curs-amoniac-2024/2024-10-31/
LOCATION:ONLINE
CATEGORIES:Curso
ATTACH;FMTTYPE=image/jpeg:https://www.actecir.cat/wp-content/uploads/2024/07/curso_amoniaco_2024.jpg
ORGANIZER;CN="ACTECIR":MAILTO:actecir@actecir.cat
END:VEVENT
END:VCALENDAR