BEGIN:VCALENDAR
VERSION:2.0
PRODID:-//Actecir - ECPv6.15.18//NONSGML v1.0//EN
CALSCALE:GREGORIAN
METHOD:PUBLISH
X-WR-CALNAME:Actecir
X-ORIGINAL-URL:https://www.actecir.cat/es/
X-WR-CALDESC:Eventos para Actecir
REFRESH-INTERVAL;VALUE=DURATION:PT1H
X-Robots-Tag:noindex
X-PUBLISHED-TTL:PT1H
BEGIN:VTIMEZONE
TZID:Europe/Madrid
BEGIN:DAYLIGHT
TZOFFSETFROM:+0100
TZOFFSETTO:+0200
TZNAME:CEST
DTSTART:20240331T010000
END:DAYLIGHT
BEGIN:STANDARD
TZOFFSETFROM:+0200
TZOFFSETTO:+0100
TZNAME:CET
DTSTART:20241027T010000
END:STANDARD
BEGIN:DAYLIGHT
TZOFFSETFROM:+0100
TZOFFSETTO:+0200
TZNAME:CEST
DTSTART:20250330T010000
END:DAYLIGHT
BEGIN:STANDARD
TZOFFSETFROM:+0200
TZOFFSETTO:+0100
TZNAME:CET
DTSTART:20251026T010000
END:STANDARD
BEGIN:DAYLIGHT
TZOFFSETFROM:+0100
TZOFFSETTO:+0200
TZNAME:CEST
DTSTART:20260329T010000
END:DAYLIGHT
BEGIN:STANDARD
TZOFFSETFROM:+0200
TZOFFSETTO:+0100
TZNAME:CET
DTSTART:20261025T010000
END:STANDARD
END:VTIMEZONE
BEGIN:VEVENT
DTSTART;TZID=Europe/Madrid:20250603T160000
DTEND;TZID=Europe/Madrid:20250603T200000
DTSTAMP:20260425T014353
CREATED:20250404T115813Z
LAST-MODIFIED:20250404T120655Z
UID:10001543-1748966400-1748980800@www.actecir.cat
SUMMARY:8º Curso de Instalaciones Frigoríficas de CO2
DESCRIPTION:
URL:https://www.actecir.cat/es/event/8o-curso-de-instalaciones-frigorificas-de-co2/2025-06-03/
LOCATION:ONLINE
CATEGORIES:Curso
ATTACH;FMTTYPE=image/jpeg:https://www.actecir.cat/wp-content/uploads/2025/03/portada_cast_co2-1.jpg
ORGANIZER;CN="AEFYT":MAILTO:aefyt@aefyt.es
END:VEVENT
BEGIN:VEVENT
DTSTART;TZID=Europe/Madrid:20250610T160000
DTEND;TZID=Europe/Madrid:20250610T200000
DTSTAMP:20260425T014353
CREATED:20250404T115813Z
LAST-MODIFIED:20250404T120655Z
UID:10001544-1749571200-1749585600@www.actecir.cat
SUMMARY:8º Curso de Instalaciones Frigoríficas de CO2
DESCRIPTION:
URL:https://www.actecir.cat/es/event/8o-curso-de-instalaciones-frigorificas-de-co2/2025-06-10/
LOCATION:ONLINE
CATEGORIES:Curso
ATTACH;FMTTYPE=image/jpeg:https://www.actecir.cat/wp-content/uploads/2025/03/portada_cast_co2-1.jpg
ORGANIZER;CN="AEFYT":MAILTO:aefyt@aefyt.es
END:VEVENT
BEGIN:VEVENT
DTSTART;TZID=Europe/Madrid:20250617T160000
DTEND;TZID=Europe/Madrid:20250617T200000
DTSTAMP:20260425T014353
CREATED:20250404T115813Z
LAST-MODIFIED:20250404T120655Z
UID:10001545-1750176000-1750190400@www.actecir.cat
SUMMARY:8º Curso de Instalaciones Frigoríficas de CO2
DESCRIPTION:
URL:https://www.actecir.cat/es/event/8o-curso-de-instalaciones-frigorificas-de-co2/2025-06-17/
LOCATION:ONLINE
CATEGORIES:Curso
ATTACH;FMTTYPE=image/jpeg:https://www.actecir.cat/wp-content/uploads/2025/03/portada_cast_co2-1.jpg
ORGANIZER;CN="AEFYT":MAILTO:aefyt@aefyt.es
END:VEVENT
BEGIN:VEVENT
DTSTART;TZID=Europe/Madrid:20250625T160000
DTEND;TZID=Europe/Madrid:20250625T200000
DTSTAMP:20260425T014353
CREATED:20250404T115813Z
LAST-MODIFIED:20250404T120655Z
UID:10001546-1750867200-1750881600@www.actecir.cat
SUMMARY:8º Curso de Instalaciones Frigoríficas de CO2
DESCRIPTION:
URL:https://www.actecir.cat/es/event/8o-curso-de-instalaciones-frigorificas-de-co2/2025-06-25/
LOCATION:ONLINE
CATEGORIES:Curso
ATTACH;FMTTYPE=image/jpeg:https://www.actecir.cat/wp-content/uploads/2025/03/portada_cast_co2-1.jpg
ORGANIZER;CN="AEFYT":MAILTO:aefyt@aefyt.es
END:VEVENT
BEGIN:VEVENT
DTSTART;TZID=Europe/Madrid:20250626T170000
DTEND;TZID=Europe/Madrid:20250626T200000
DTSTAMP:20260425T014353
CREATED:20250606T084344Z
LAST-MODIFIED:20250606T084344Z
UID:10001553-1750957200-1750968000@www.actecir.cat
SUMMARY:4a Edició. Curs Aerotèrmia
DESCRIPTION:
URL:https://www.actecir.cat/es/event/4a-edicio-curs-aerotermia/2025-06-26/
LOCATION:ACTECIR\, Plaça d'Espanya\, s/n 1er pis. Fira de Barcelona\, Barcelona\, Barcelona\, 08004\, Espanya
CATEGORIES:Curso
ATTACH;FMTTYPE=image/png:https://www.actecir.cat/wp-content/uploads/2025/06/Curs-Aerotermia-2025_cast.png
END:VEVENT
END:VCALENDAR