BEGIN:VCALENDAR
VERSION:2.0
PRODID:-//Actecir - ECPv6.15.18//NONSGML v1.0//EN
CALSCALE:GREGORIAN
METHOD:PUBLISH
X-WR-CALNAME:Actecir
X-ORIGINAL-URL:https://www.actecir.cat/es/
X-WR-CALDESC:Eventos para Actecir
REFRESH-INTERVAL;VALUE=DURATION:PT1H
X-Robots-Tag:noindex
X-PUBLISHED-TTL:PT1H
BEGIN:VTIMEZONE
TZID:Europe/Madrid
BEGIN:DAYLIGHT
TZOFFSETFROM:+0100
TZOFFSETTO:+0200
TZNAME:CEST
DTSTART:20240331T010000
END:DAYLIGHT
BEGIN:STANDARD
TZOFFSETFROM:+0200
TZOFFSETTO:+0100
TZNAME:CET
DTSTART:20241027T010000
END:STANDARD
BEGIN:DAYLIGHT
TZOFFSETFROM:+0100
TZOFFSETTO:+0200
TZNAME:CEST
DTSTART:20250330T010000
END:DAYLIGHT
BEGIN:STANDARD
TZOFFSETFROM:+0200
TZOFFSETTO:+0100
TZNAME:CET
DTSTART:20251026T010000
END:STANDARD
BEGIN:DAYLIGHT
TZOFFSETFROM:+0100
TZOFFSETTO:+0200
TZNAME:CEST
DTSTART:20260329T010000
END:DAYLIGHT
BEGIN:STANDARD
TZOFFSETFROM:+0200
TZOFFSETTO:+0100
TZNAME:CET
DTSTART:20261025T010000
END:STANDARD
END:VTIMEZONE
BEGIN:VEVENT
DTSTART;TZID=Europe/Madrid:20250917T160000
DTEND;TZID=Europe/Madrid:20250917T200000
DTSTAMP:20260424T193002
CREATED:20250919T101008Z
LAST-MODIFIED:20250919T101008Z
UID:10001621-1758124800-1758139200@www.actecir.cat
SUMMARY:6º Curso de instalaciones Frigoríficas con Amoníaco
DESCRIPTION:
URL:https://www.actecir.cat/es/event/6o-curso-de-instalaciones-frigorificas-con-amoniaco-2/2025-09-17/
CATEGORIES:Curso
ATTACH;FMTTYPE=image/png:https://www.actecir.cat/wp-content/uploads/2025/09/AMONIAC_2025_cast.png
ORGANIZER;CN="AEFYT":MAILTO:aefyt@aefyt.es
END:VEVENT
END:VCALENDAR