BEGIN:VCALENDAR
VERSION:2.0
PRODID:-//Actecir - ECPv6.15.18//NONSGML v1.0//EN
CALSCALE:GREGORIAN
METHOD:PUBLISH
X-WR-CALNAME:Actecir
X-ORIGINAL-URL:https://www.actecir.cat/es/
X-WR-CALDESC:Eventos para Actecir
REFRESH-INTERVAL;VALUE=DURATION:PT1H
X-Robots-Tag:noindex
X-PUBLISHED-TTL:PT1H
BEGIN:VTIMEZONE
TZID:Europe/Madrid
BEGIN:DAYLIGHT
TZOFFSETFROM:+0100
TZOFFSETTO:+0200
TZNAME:CEST
DTSTART:20250330T010000
END:DAYLIGHT
BEGIN:STANDARD
TZOFFSETFROM:+0200
TZOFFSETTO:+0100
TZNAME:CET
DTSTART:20251026T010000
END:STANDARD
BEGIN:DAYLIGHT
TZOFFSETFROM:+0100
TZOFFSETTO:+0200
TZNAME:CEST
DTSTART:20260329T010000
END:DAYLIGHT
BEGIN:STANDARD
TZOFFSETFROM:+0200
TZOFFSETTO:+0100
TZNAME:CET
DTSTART:20261025T010000
END:STANDARD
BEGIN:DAYLIGHT
TZOFFSETFROM:+0100
TZOFFSETTO:+0200
TZNAME:CEST
DTSTART:20270328T010000
END:DAYLIGHT
BEGIN:STANDARD
TZOFFSETFROM:+0200
TZOFFSETTO:+0100
TZNAME:CET
DTSTART:20271031T010000
END:STANDARD
END:VTIMEZONE
BEGIN:VEVENT
DTSTART;TZID=Europe/Madrid:20260205T160000
DTEND;TZID=Europe/Madrid:20260205T200000
DTSTAMP:20260424T115940
CREATED:20260119T125918Z
LAST-MODIFIED:20260206T121851Z
UID:10001699-1770307200-1770321600@www.actecir.cat
SUMMARY:9º Curso Instalaciones Frigoríficas de CO2
DESCRIPTION:  \n9º Curso Instalaciones Frigoríficas de CO2 organizado por AEFYT con la colaboración de ACTECIR \nMás info ℹ️ https://www.actecir.cat/curs-dinstallacions-frigorifiques-de-co2/
URL:https://www.actecir.cat/es/event/9o-curso-instalaciones-frigorificas-de-co2-2/2026-02-05/
CATEGORIES:Curso
ATTACH;FMTTYPE=image/png:https://www.actecir.cat/wp-content/uploads/2026/01/600X400_9oCurso-CO2-AEFYT_2026_cast.png
END:VEVENT
BEGIN:VEVENT
DTSTART;TZID=Europe/Madrid:20260212T160000
DTEND;TZID=Europe/Madrid:20260212T200000
DTSTAMP:20260424T115940
CREATED:20260119T125918Z
LAST-MODIFIED:20260206T121851Z
UID:10001700-1770912000-1770926400@www.actecir.cat
SUMMARY:9º Curso Instalaciones Frigoríficas de CO2
DESCRIPTION:  \n9º Curso Instalaciones Frigoríficas de CO2 organizado por AEFYT con la colaboración de ACTECIR \nMás info ℹ️ https://www.actecir.cat/curs-dinstallacions-frigorifiques-de-co2/
URL:https://www.actecir.cat/es/event/9o-curso-instalaciones-frigorificas-de-co2-2/2026-02-12/
CATEGORIES:Curso
ATTACH;FMTTYPE=image/png:https://www.actecir.cat/wp-content/uploads/2026/01/600X400_9oCurso-CO2-AEFYT_2026_cast.png
END:VEVENT
BEGIN:VEVENT
DTSTART;TZID=Europe/Madrid:20260218T160000
DTEND;TZID=Europe/Madrid:20260218T190000
DTSTAMP:20260424T115940
CREATED:20260115T135523Z
LAST-MODIFIED:20260310T135400Z
UID:10001675-1771430400-1771441200@www.actecir.cat
SUMMARY:1er Curso de Tecnologías y Sistemas de mejora de la Calidad del Aire Interior (IAQ) en Edificios e Infraestructuras
DESCRIPTION: 
URL:https://www.actecir.cat/es/event/1er-curso-de-tecnologias-y-sistemas-de-mejora-de-la-calidad-del-aire-interior-iaq-en-edificios-e-infraestructuras-2/2026-02-18/
LOCATION:ONLINE
CATEGORIES:Curso
ATTACH;FMTTYPE=image/png:https://www.actecir.cat/wp-content/uploads/2026/01/600x400px-Curs-Calidad-del-aire-2026_cast_DESTAQUEM-simple.png
END:VEVENT
BEGIN:VEVENT
DTSTART;TZID=Europe/Madrid:20260219T160000
DTEND;TZID=Europe/Madrid:20260219T200000
DTSTAMP:20260424T115940
CREATED:20260119T125918Z
LAST-MODIFIED:20260206T121851Z
UID:10001701-1771516800-1771531200@www.actecir.cat
SUMMARY:9º Curso Instalaciones Frigoríficas de CO2
DESCRIPTION:  \n9º Curso Instalaciones Frigoríficas de CO2 organizado por AEFYT con la colaboración de ACTECIR \nMás info ℹ️ https://www.actecir.cat/curs-dinstallacions-frigorifiques-de-co2/
URL:https://www.actecir.cat/es/event/9o-curso-instalaciones-frigorificas-de-co2-2/2026-02-19/
CATEGORIES:Curso
ATTACH;FMTTYPE=image/png:https://www.actecir.cat/wp-content/uploads/2026/01/600X400_9oCurso-CO2-AEFYT_2026_cast.png
END:VEVENT
BEGIN:VEVENT
DTSTART;TZID=Europe/Madrid:20260225T160000
DTEND;TZID=Europe/Madrid:20260225T190000
DTSTAMP:20260424T115940
CREATED:20260115T135523Z
LAST-MODIFIED:20260310T135400Z
UID:10001706-1772035200-1772046000@www.actecir.cat
SUMMARY:1er Curso de Tecnologías y Sistemas de mejora de la Calidad del Aire Interior (IAQ) en Edificios e Infraestructuras
DESCRIPTION: 
URL:https://www.actecir.cat/es/event/1er-curso-de-tecnologias-y-sistemas-de-mejora-de-la-calidad-del-aire-interior-iaq-en-edificios-e-infraestructuras-2/2026-02-25/
LOCATION:ONLINE
CATEGORIES:Curso
ATTACH;FMTTYPE=image/png:https://www.actecir.cat/wp-content/uploads/2026/01/600x400px-Curs-Calidad-del-aire-2026_cast_DESTAQUEM-simple.png
END:VEVENT
BEGIN:VEVENT
DTSTART;TZID=Europe/Madrid:20260226T160000
DTEND;TZID=Europe/Madrid:20260226T200000
DTSTAMP:20260424T115940
CREATED:20260119T125918Z
LAST-MODIFIED:20260206T121851Z
UID:10001702-1772121600-1772136000@www.actecir.cat
SUMMARY:9º Curso Instalaciones Frigoríficas de CO2
DESCRIPTION:  \n9º Curso Instalaciones Frigoríficas de CO2 organizado por AEFYT con la colaboración de ACTECIR \nMás info ℹ️ https://www.actecir.cat/curs-dinstallacions-frigorifiques-de-co2/
URL:https://www.actecir.cat/es/event/9o-curso-instalaciones-frigorificas-de-co2-2/2026-02-26/
CATEGORIES:Curso
ATTACH;FMTTYPE=image/png:https://www.actecir.cat/wp-content/uploads/2026/01/600X400_9oCurso-CO2-AEFYT_2026_cast.png
END:VEVENT
END:VCALENDAR