BEGIN:VCALENDAR
VERSION:2.0
PRODID:-//Actecir - ECPv6.15.18//NONSGML v1.0//EN
CALSCALE:GREGORIAN
METHOD:PUBLISH
X-ORIGINAL-URL:https://www.actecir.cat/es/
X-WR-CALDESC:Eventos para Actecir
REFRESH-INTERVAL;VALUE=DURATION:PT1H
X-Robots-Tag:noindex
X-PUBLISHED-TTL:PT1H
BEGIN:VTIMEZONE
TZID:Europe/Madrid
BEGIN:DAYLIGHT
TZOFFSETFROM:+0100
TZOFFSETTO:+0200
TZNAME:CEST
DTSTART:20230326T010000
END:DAYLIGHT
BEGIN:STANDARD
TZOFFSETFROM:+0200
TZOFFSETTO:+0100
TZNAME:CET
DTSTART:20231029T010000
END:STANDARD
BEGIN:DAYLIGHT
TZOFFSETFROM:+0100
TZOFFSETTO:+0200
TZNAME:CEST
DTSTART:20240331T010000
END:DAYLIGHT
BEGIN:STANDARD
TZOFFSETFROM:+0200
TZOFFSETTO:+0100
TZNAME:CET
DTSTART:20241027T010000
END:STANDARD
BEGIN:DAYLIGHT
TZOFFSETFROM:+0100
TZOFFSETTO:+0200
TZNAME:CEST
DTSTART:20250330T010000
END:DAYLIGHT
BEGIN:STANDARD
TZOFFSETFROM:+0200
TZOFFSETTO:+0100
TZNAME:CET
DTSTART:20251026T010000
END:STANDARD
BEGIN:DAYLIGHT
TZOFFSETFROM:+0100
TZOFFSETTO:+0200
TZNAME:CEST
DTSTART:20260329T010000
END:DAYLIGHT
BEGIN:STANDARD
TZOFFSETFROM:+0200
TZOFFSETTO:+0100
TZNAME:CET
DTSTART:20261025T010000
END:STANDARD
BEGIN:DAYLIGHT
TZOFFSETFROM:+0100
TZOFFSETTO:+0200
TZNAME:CEST
DTSTART:20270328T010000
END:DAYLIGHT
BEGIN:STANDARD
TZOFFSETFROM:+0200
TZOFFSETTO:+0100
TZNAME:CET
DTSTART:20271031T010000
END:STANDARD
END:VTIMEZONE
BEGIN:VEVENT
DTSTART;TZID=Europe/Madrid:20260422T160000
DTEND;TZID=Europe/Madrid:20260422T190000
DTSTAMP:20260424T164706
CREATED:20260115T135523Z
LAST-MODIFIED:20260310T135400Z
UID:10001712-1776873600-1776884400@www.actecir.cat
SUMMARY:1er Curso de Tecnologías y Sistemas de mejora de la Calidad del Aire Interior (IAQ) en Edificios e Infraestructuras
DESCRIPTION: 
URL:https://www.actecir.cat/es/event/1er-curso-de-tecnologias-y-sistemas-de-mejora-de-la-calidad-del-aire-interior-iaq-en-edificios-e-infraestructuras-2/2026-04-22/
LOCATION:ONLINE
CATEGORIES:Curso
ATTACH;FMTTYPE=image/png:https://www.actecir.cat/wp-content/uploads/2026/01/600x400px-Curs-Calidad-del-aire-2026_cast_DESTAQUEM-simple.png
END:VEVENT
BEGIN:VEVENT
DTSTART;TZID=Europe/Madrid:20260318T090000
DTEND;TZID=Europe/Madrid:20260318T150000
DTSTAMP:20260424T164706
CREATED:20260309T144139Z
LAST-MODIFIED:20260309T144858Z
UID:10001705-1773824400-1773846000@www.actecir.cat
SUMMARY:Brunch Técnico ACTECIR – visita fábrica HITACHI
DESCRIPTION:MÁS INFORMACIÓN
URL:https://www.actecir.cat/es/event/brunch-tecnico-actecir-visita-fabrica-hitachi/
LOCATION:Barcelona
CATEGORIES:Vistas técnicas
ATTACH;FMTTYPE=image/png:https://www.actecir.cat/wp-content/uploads/2026/02/600x400-Brunch-Hitachi_marc-2026_cast.png
END:VEVENT
BEGIN:VEVENT
DTSTART;TZID=Europe/Madrid:20260312T180000
DTEND;TZID=Europe/Madrid:20260312T200000
DTSTAMP:20260424T164706
CREATED:20260119T131340Z
LAST-MODIFIED:20260309T144544Z
UID:10001696-1773338400-1773345600@www.actecir.cat
SUMMARY:Visita las nuevas oficinas y showroom de AIRZONE
DESCRIPTION:ℹ️  MÁS INFORMACIÓN  ℹ️
URL:https://www.actecir.cat/es/event/jornada-a-les-noves-oficines-i-showroom-dairzone/
LOCATION:Barcelona
CATEGORIES:Visitas técnicas
ATTACH;FMTTYPE=image/png:https://www.actecir.cat/wp-content/uploads/2026/02/600x400-jornada-AIRZONE_para-12-MARC_2026_cast_NOVA2.png
END:VEVENT
BEGIN:VEVENT
DTSTART;TZID=Europe/Madrid:20260305T160000
DTEND;TZID=Europe/Madrid:20260305T200000
DTSTAMP:20260424T164706
CREATED:20260119T125918Z
LAST-MODIFIED:20260206T121851Z
UID:10001703-1772726400-1772740800@www.actecir.cat
SUMMARY:9º Curso Instalaciones Frigoríficas de CO2
DESCRIPTION:  \n9º Curso Instalaciones Frigoríficas de CO2 organizado por AEFYT con la colaboración de ACTECIR \nMás info ℹ️ https://www.actecir.cat/curs-dinstallacions-frigorifiques-de-co2/
URL:https://www.actecir.cat/es/event/9o-curso-instalaciones-frigorificas-de-co2-2/2026-03-05/
LOCATION:Barcelona
CATEGORIES:Curso
ATTACH;FMTTYPE=image/png:https://www.actecir.cat/wp-content/uploads/2026/01/600X400_9oCurso-CO2-AEFYT_2026_cast.png
END:VEVENT
BEGIN:VEVENT
DTSTART;TZID=Europe/Madrid:20251224T160000
DTEND;TZID=Europe/Madrid:20260106T235900
DTSTAMP:20260424T164706
CREATED:20251218T180839Z
LAST-MODIFIED:20251218T181520Z
UID:10001654-1766592000-1767743940@www.actecir.cat
SUMMARY:VACACIONES DE NAVIDAD en ACTECIR
DESCRIPTION:  \nACTECIR permanecerá cerrado desde el 25 de diciembre hasta el 6 de enero.\nEl 7 de enero estamos de vuelta \nFeliz Navidad!
URL:https://www.actecir.cat/es/event/vacaciones-de-navidad-en-actecir/
LOCATION:Barcelona
CATEGORIES:Vacaciones
ATTACH;FMTTYPE=image/png:https://www.actecir.cat/wp-content/uploads/2025/12/600x400_bon-nada-2025_cat.png
END:VEVENT
BEGIN:VEVENT
DTSTART;TZID=Europe/Madrid:20251217T160000
DTEND;TZID=Europe/Madrid:20251217T200000
DTSTAMP:20260424T164706
CREATED:20250701T082030Z
LAST-MODIFIED:20250919T100143Z
UID:10001587-1765987200-1766001600@www.actecir.cat
SUMMARY:5º Curso de Diseño y Cálculo de Instalaciones de Climatización y Ventilación
DESCRIPTION:
URL:https://www.actecir.cat/es/event/5o-curso-de-diseno-y-calculo-de-instalaciones-de-climatizacion-y-ventilacion-2/2025-12-17/
LOCATION:Barcelona
CATEGORIES:Curso
ATTACH;FMTTYPE=image/png:https://www.actecir.cat/wp-content/uploads/2025/07/Curs-Clima-2025_cat.png
END:VEVENT
BEGIN:VEVENT
DTSTART;TZID=Europe/Madrid:20251121T160000
DTEND;TZID=Europe/Madrid:20251121T200000
DTSTAMP:20260424T164706
CREATED:20250919T101008Z
LAST-MODIFIED:20250919T101008Z
UID:10001626-1763740800-1763755200@www.actecir.cat
SUMMARY:6º Curso de instalaciones Frigoríficas con Amoníaco
DESCRIPTION:
URL:https://www.actecir.cat/es/event/6o-curso-de-instalaciones-frigorificas-con-amoniaco-2/2025-11-21/
LOCATION:Barcelona
CATEGORIES:Curso
ATTACH;FMTTYPE=image/png:https://www.actecir.cat/wp-content/uploads/2025/09/AMONIAC_2025_cast.png
ORGANIZER;CN="AEFYT":MAILTO:aefyt@aefyt.es
END:VEVENT
BEGIN:VEVENT
DTSTART;TZID=Europe/Madrid:20251121T160000
DTEND;TZID=Europe/Madrid:20251121T200000
DTSTAMP:20260424T164706
CREATED:20250919T095641Z
LAST-MODIFIED:20250922T081720Z
UID:10001620-1763740800-1763755200@www.actecir.cat
SUMMARY:6º Curso de instalaciones Frigoríficas con Amoníaco
DESCRIPTION:
URL:https://www.actecir.cat/es/event/6o-curso-de-instalaciones-frigorificas-con-amoniaco/2025-11-21/
LOCATION:Barcelona
CATEGORIES:Curso
ATTACH;FMTTYPE=image/png:https://www.actecir.cat/wp-content/uploads/2025/09/AMONIAC_2025_cat.png
ORGANIZER;CN="AEFYT":MAILTO:aefyt@aefyt.es
END:VEVENT
BEGIN:VEVENT
DTSTART;TZID=Europe/Madrid:20251104T110000
DTEND;TZID=Europe/Madrid:20251104T120000
DTSTAMP:20260424T164706
CREATED:20251024T120253Z
LAST-MODIFIED:20251024T120343Z
UID:10001652-1762254000-1762257600@www.actecir.cat
SUMMARY:Webinar ITALSAN
DESCRIPTION:
URL:https://www.actecir.cat/es/event/webinar-italsan-3/
LOCATION:Barcelona
CATEGORIES:Webinars
ATTACH;FMTTYPE=image/png:https://www.actecir.cat/wp-content/uploads/2025/10/Webinar-Italsan_cast.png
END:VEVENT
BEGIN:VEVENT
DTSTART;TZID=Europe/Madrid:20251104T110000
DTEND;TZID=Europe/Madrid:20251104T120000
DTSTAMP:20260424T164706
CREATED:20251024T114500Z
LAST-MODIFIED:20251024T114500Z
UID:10001651-1762254000-1762257600@www.actecir.cat
SUMMARY:Webinar ITALSAN
DESCRIPTION:
URL:https://www.actecir.cat/es/event/webinar-italsan-2/
LOCATION:Barcelona
CATEGORIES:Webinars
ATTACH;FMTTYPE=image/png:https://www.actecir.cat/wp-content/uploads/2025/10/banner_webinar_itlasan_cast-scaled.png
END:VEVENT
BEGIN:VEVENT
DTSTART;TZID=Europe/Madrid:20251030T160000
DTEND;TZID=Europe/Madrid:20251030T200000
DTSTAMP:20260424T164706
CREATED:20250919T102937Z
LAST-MODIFIED:20250919T110258Z
UID:10001646-1761840000-1761854400@www.actecir.cat
SUMMARY:8º Curso de Instalaciones Frigoríficas con Refrigerantes Inflamables
DESCRIPTION:
URL:https://www.actecir.cat/es/event/8o-curso-de-instalaciones-frigorificas-con-refrigerantes-inflamables-2/2025-10-30/
LOCATION:Barcelona
CATEGORIES:Curso
ATTACH;FMTTYPE=image/png:https://www.actecir.cat/wp-content/uploads/2025/09/INFLAMABLES_2025_cat-2.png
ORGANIZER;CN="AEFYT":MAILTO:aefyt@aefyt.es
END:VEVENT
BEGIN:VEVENT
DTSTART;TZID=Europe/Madrid:20251015T160000
DTEND;TZID=Europe/Madrid:20251015T200000
DTSTAMP:20260424T164706
CREATED:20250701T080736Z
LAST-MODIFIED:20250701T082424Z
UID:10001567-1760544000-1760558400@www.actecir.cat
SUMMARY:5º Curso de Diseño y Cálculo de Instalaciones de Climatización y Ventilación
DESCRIPTION:
URL:https://www.actecir.cat/es/event/5o-curso-de-diseno-y-calculo-de-instalaciones-de-climatizacion-y-ventilacion/
LOCATION:Fira Barcelona (Recinte Montjuïc – Pavelló 8)
CATEGORIES:Curso
ATTACH;FMTTYPE=image/png:https://www.actecir.cat/wp-content/uploads/2025/07/Curs-Clima-2025_cat.png
END:VEVENT
BEGIN:VEVENT
DTSTART;TZID=Europe/Madrid:20251009T093000
DTEND;TZID=Europe/Madrid:20251009T180000
DTSTAMP:20260424T164706
CREATED:20250919T105415Z
LAST-MODIFIED:20250919T105818Z
UID:10001642-1760002200-1760032800@www.actecir.cat
SUMMARY:EFINTEC 2025
DESCRIPTION:
URL:https://www.actecir.cat/es/event/efintec-2025/2025-10-09/
LOCATION:Fira Barcelona Gran Via\, Av. Joan Carles I\, 64\, 08908 Barcelona\, Barcelona\, Barcelona\, 08908\, Spain
CATEGORIES:Ferias
ATTACH;FMTTYPE=image/png:https://www.actecir.cat/wp-content/uploads/2025/09/PORTADA-EFINTEC-CAST-2.png
ORGANIZER;CN="EFINTEC":MAILTO:info@efintec.es
END:VEVENT
BEGIN:VEVENT
DTSTART;VALUE=DATE:20250804
DTEND;VALUE=DATE:20250818
DTSTAMP:20260424T164707
CREATED:20250724T111641Z
LAST-MODIFIED:20250724T111642Z
UID:10001591-1754265600-1755475199@www.actecir.cat
SUMMARY:Vacaciones ACTECIR 2025
DESCRIPTION:
URL:https://www.actecir.cat/es/event/vacaciones-actecir-2025/
LOCATION:Barcelona
CATEGORIES:Vacaciones
ATTACH;FMTTYPE=image/png:https://www.actecir.cat/wp-content/uploads/2025/07/Vacaciones-ACTECIR-2025.png
END:VEVENT
BEGIN:VEVENT
DTSTART;TZID=Europe/Madrid:20250717T180000
DTEND;TZID=Europe/Madrid:20250717T230000
DTSTAMP:20260424T164707
CREATED:20250703T094514Z
LAST-MODIFIED:20250703T094910Z
UID:10001589-1752775200-1752793200@www.actecir.cat
SUMMARY:Junta General de Socios y Socias ACTECIR 2025
DESCRIPTION:
URL:https://www.actecir.cat/es/event/junta-general-de-socios-y-socias-actecir-2025/
LOCATION:Barcelona
CATEGORIES:Actos
ATTACH;FMTTYPE=image/png:https://www.actecir.cat/wp-content/uploads/2025/07/Junta-General-Ordinaria-SOCIOS.png
END:VEVENT
BEGIN:VEVENT
DTSTART;TZID=Europe/Madrid:20250710T150000
DTEND;TZID=Europe/Madrid:20250710T180000
DTSTAMP:20260424T164707
CREATED:20250606T084344Z
LAST-MODIFIED:20250606T084344Z
UID:10001557-1752159600-1752170400@www.actecir.cat
SUMMARY:4a Edició. Curs Aerotèrmia
DESCRIPTION:
URL:https://www.actecir.cat/es/event/4a-edicio-curs-aerotermia/2025-07-10/
LOCATION:ACTECIR\, Plaça d'Espanya\, s/n 1er pis. Fira de Barcelona\, Barcelona\, Barcelona\, 08004\, Espanya
CATEGORIES:Curso
ATTACH;FMTTYPE=image/png:https://www.actecir.cat/wp-content/uploads/2025/06/Curs-Aerotermia-2025_cast.png
END:VEVENT
BEGIN:VEVENT
DTSTART;TZID=Europe/Madrid:20250625T160000
DTEND;TZID=Europe/Madrid:20250625T200000
DTSTAMP:20260424T164707
CREATED:20250404T115813Z
LAST-MODIFIED:20250404T120655Z
UID:10001546-1750867200-1750881600@www.actecir.cat
SUMMARY:8º Curso de Instalaciones Frigoríficas de CO2
DESCRIPTION:
URL:https://www.actecir.cat/es/event/8o-curso-de-instalaciones-frigorificas-de-co2/2025-06-25/
LOCATION:ONLINE
CATEGORIES:Curso
ATTACH;FMTTYPE=image/jpeg:https://www.actecir.cat/wp-content/uploads/2025/03/portada_cast_co2-1.jpg
ORGANIZER;CN="AEFYT":MAILTO:aefyt@aefyt.es
END:VEVENT
BEGIN:VEVENT
DTSTART;TZID=Europe/Madrid:20250618T100000
DTEND;TZID=Europe/Madrid:20250618T110000
DTSTAMP:20260424T164707
CREATED:20250606T090902Z
LAST-MODIFIED:20250606T090902Z
UID:10001558-1750240800-1750244400@www.actecir.cat
SUMMARY:Webinar ITALSAN
DESCRIPTION:
URL:https://www.actecir.cat/es/event/webinar-italsan/
LOCATION:ONLINE
CATEGORIES:Webinars
ATTACH;FMTTYPE=image/png:https://www.actecir.cat/wp-content/uploads/2025/06/WEBINAR-ITALSAN-2025_cast.png
END:VEVENT
BEGIN:VEVENT
DTSTART;TZID=Europe/Madrid:20250529T200000
DTEND;TZID=Europe/Madrid:20250529T200000
DTSTAMP:20260424T164707
CREATED:20250422T085445Z
LAST-MODIFIED:20250422T085909Z
UID:10001548-1748548800-1748548800@www.actecir.cat
SUMMARY:9a edición. Generando el mejor Clima
DESCRIPTION:
URL:https://www.actecir.cat/es/event/9a-edicion-generando-el-mejor-clima-2/
LOCATION:Esfèric Barcelona
CATEGORIES:Actos
ATTACH;FMTTYPE=image/jpeg:https://www.actecir.cat/wp-content/uploads/2025/04/Portada-destacamos.jpg
ORGANIZER;CN="ACTECIR":MAILTO:actecir@actecir.cat
END:VEVENT
BEGIN:VEVENT
DTSTART;TZID=Europe/Madrid:20250515T083000
DTEND;TZID=Europe/Madrid:20250515T140000
DTSTAMP:20260424T164707
CREATED:20250423T083048Z
LAST-MODIFIED:20250423T090445Z
UID:10001552-1747297800-1747317600@www.actecir.cat
SUMMARY:Jornada tècnica: Infraestructura Modular i Refrigeració Evolutiva per a Data Centers
DESCRIPTION:
URL:https://www.actecir.cat/es/event/jornada-tecnica-infraestructura-modular-i-refrigeracio-evolutiva-per-a-data-centers/
LOCATION:Col·legi d’Enginyers Graduats i Enginyers Tècnics Industrials de Barcelona (ENGINYERS BCN)\, C/ Consell de Cent\, 365\, Barcelona\, Barcelona\, 08009\, Espanya
CATEGORIES:Jornadas
ATTACH;FMTTYPE=image/png:https://www.actecir.cat/wp-content/uploads/2025/04/Jornada-Equifab-Rittal-Stulz_cast.png
END:VEVENT
BEGIN:VEVENT
DTSTART;TZID=Europe/Madrid:20250425T130000
DTEND;TZID=Europe/Madrid:20250425T140000
DTSTAMP:20260424T164707
CREATED:20250422T090252Z
LAST-MODIFIED:20250422T090252Z
UID:10001549-1745586000-1745589600@www.actecir.cat
SUMMARY:WEBINAR Giacomini
DESCRIPTION:
URL:https://www.actecir.cat/es/event/webinar-giacomini/
LOCATION:ONLINE
CATEGORIES:Webinar
ATTACH;FMTTYPE=image/png:https://www.actecir.cat/wp-content/uploads/2025/04/WEBINAR-GIACOMINI.png
END:VEVENT
BEGIN:VEVENT
DTSTART;TZID=Europe/Madrid:20250424T160000
DTEND;TZID=Europe/Madrid:20250424T200000
DTSTAMP:20260424T164707
CREATED:20250217T093934Z
LAST-MODIFIED:20250217T093935Z
UID:10001517-1745510400-1745524800@www.actecir.cat
SUMMARY:7º Curso de Instalaciones Frigoríficas de CO₂
DESCRIPTION:
URL:https://www.actecir.cat/es/event/7o-curso-de-instalaciones-frigorificas-de-co%e2%82%82/2025-04-24/
LOCATION:Barcelona
CATEGORIES:Curso
ATTACH;FMTTYPE=image/jpeg:https://www.actecir.cat/wp-content/uploads/2025/02/1-1.jpg
END:VEVENT
BEGIN:VEVENT
DTSTART;TZID=Europe/Madrid:20250319T090000
DTEND;TZID=Europe/Madrid:20250319T150000
DTSTAMP:20260424T164707
CREATED:20250217T100930Z
LAST-MODIFIED:20250217T100931Z
UID:10001524-1742374800-1742396400@www.actecir.cat
SUMMARY:BRUNCH Técnico ACTECIR
DESCRIPTION:
URL:https://www.actecir.cat/es/event/brunch-tecnico-actecir/
LOCATION:Barcelona
CATEGORIES:Jornadas,Visitas técnicas
ATTACH;FMTTYPE=image/jpeg:https://www.actecir.cat/wp-content/uploads/2025/02/1.jpg
END:VEVENT
BEGIN:VEVENT
DTSTART;TZID=Europe/Madrid:20250307T090000
DTEND;TZID=Europe/Madrid:20250307T143000
DTSTAMP:20260424T164707
CREATED:20250123T120312Z
LAST-MODIFIED:20250124T105507Z
UID:10001511-1741338000-1741357800@www.actecir.cat
SUMMARY:3ª Edición Curso Básico Climatización Data Centers
DESCRIPTION:
URL:https://www.actecir.cat/es/event/3a-edicion-curso-basico-climatizacion-data-centers/2025-03-07/
LOCATION:Barcelona
CATEGORIES:Curso
ATTACH;FMTTYPE=image/jpeg:https://www.actecir.cat/wp-content/uploads/2025/01/DATA_CENTERS_2025_Pagina_04-1-scaled.jpg
END:VEVENT
BEGIN:VEVENT
DTSTART;TZID=Europe/Madrid:20250130T180000
DTEND;TZID=Europe/Madrid:20250130T200000
DTSTAMP:20260424T164707
CREATED:20250120T131107Z
LAST-MODIFIED:20250120T131107Z
UID:10001502-1738260000-1738267200@www.actecir.cat
SUMMARY:Jornada Airzone - Hitachi
DESCRIPTION:
URL:https://www.actecir.cat/es/event/jornada-airzone-hitachi/
LOCATION:Aula Capella UPC\, Av. Diagonal 647\, 08028 Barcelona\, Barcelona\, 08028\, Spain
CATEGORIES:Jornadas
ATTACH;FMTTYPE=image/jpeg:https://www.actecir.cat/wp-content/uploads/2025/01/Jornada_Airzone_Hitachi_Pagina_1-scaled.jpg
ORGANIZER;CN="ACTECIR":MAILTO:actecir@actecir.cat
END:VEVENT
BEGIN:VEVENT
DTSTART;VALUE=DATE:20241225
DTEND;VALUE=DATE:20250107
DTSTAMP:20260424T164707
CREATED:20241223T114950Z
LAST-MODIFIED:20241223T114950Z
UID:10001500-1735084800-1736207999@www.actecir.cat
SUMMARY:Vacaciones Navidad ACTECIR
DESCRIPTION:
URL:https://www.actecir.cat/es/event/vacaciones-navidad-actecir/
LOCATION:Barcelona
CATEGORIES:Vacaciones
ATTACH;FMTTYPE=image/gif:https://www.actecir.cat/wp-content/uploads/2024/12/Feliz-Navidad-2024.gif
ORGANIZER;CN="ACTECIR":MAILTO:actecir@actecir.cat
END:VEVENT
BEGIN:VEVENT
DTSTART;TZID=Europe/Madrid:20241218T160000
DTEND;TZID=Europe/Madrid:20241218T200000
DTSTAMP:20260424T164707
CREATED:20240807T114434Z
LAST-MODIFIED:20240807T114434Z
UID:10001461-1734537600-1734552000@www.actecir.cat
SUMMARY:4º Curso de Diseño y Cálculo de Instalaciones de Climatización y Ventilación
DESCRIPTION:
URL:https://www.actecir.cat/es/event/4o-curso-de-diseno-y-calculo-de-instalaciones-de-climatizacion-y-ventilacion/2024-12-18/
LOCATION:ONLINE
CATEGORIES:Curso
ATTACH;FMTTYPE=image/jpeg:https://www.actecir.cat/wp-content/uploads/2024/07/Portada_web_cat.jpg
ORGANIZER;CN="ACTECIR":MAILTO:actecir@actecir.cat
END:VEVENT
BEGIN:VEVENT
DTSTART;TZID=Europe/Madrid:20241217T193000
DTEND;TZID=Europe/Madrid:20241217T210000
DTSTAMP:20260424T164707
CREATED:20241127T110553Z
LAST-MODIFIED:20241210T141648Z
UID:10001498-1734463800-1734469200@www.actecir.cat
SUMMARY:Encuentro Navidad ACTECIR 2024
DESCRIPTION:
URL:https://www.actecir.cat/es/event/encuentro-navidad-actecir-2024/
LOCATION:Hotel ABBA GARDEN Barcelona\, C/ Santa Rosa 33\, Esplugues de Llobregat\, Barcelona\, 08950\, Espanya
CATEGORIES:Actos
ATTACH;FMTTYPE=image/jpeg:https://www.actecir.cat/wp-content/uploads/2024/11/TROBADA-2024_Corporatiu_Pagina_2-scaled.jpg
ORGANIZER;CN="ACTECIR":MAILTO:actecir@actecir.cat
END:VEVENT
BEGIN:VEVENT
DTSTART;TZID=Europe/Madrid:20241114T160000
DTEND;TZID=Europe/Madrid:20241114T200000
DTSTAMP:20260424T164707
CREATED:20240916T123333Z
LAST-MODIFIED:20240916T124213Z
UID:10001480-1731600000-1731614400@www.actecir.cat
SUMMARY:Curso Amoníaco 2024
DESCRIPTION:
URL:https://www.actecir.cat/es/event/curs-amoniac-2024/2024-11-14/
LOCATION:ONLINE
CATEGORIES:Curso
ATTACH;FMTTYPE=image/jpeg:https://www.actecir.cat/wp-content/uploads/2024/07/curso_amoniaco_2024.jpg
ORGANIZER;CN="ACTECIR":MAILTO:actecir@actecir.cat
END:VEVENT
BEGIN:VEVENT
DTSTART;TZID=Europe/Madrid:20241112T110000
DTEND;TZID=Europe/Madrid:20241112T120000
DTSTAMP:20260424T164707
CREATED:20241030T103109Z
LAST-MODIFIED:20241030T104011Z
UID:10001496-1731409200-1731412800@www.actecir.cat
SUMMARY:Webinar técnico CEILHIT: Impacto del nuevo Real Decreto 614/2024 por la prevención y control de legionelosis
DESCRIPTION:
URL:https://www.actecir.cat/es/event/webinar-tecnico-ceilhit-impacto-del-nuevo-real-decreto-614-2024-por-la-prevencion-y-control-de-legionelosis/
LOCATION:ONLINE
CATEGORIES:Webinars
ATTACH;FMTTYPE=image/jpeg:https://www.actecir.cat/wp-content/uploads/2024/10/banner_Pagina_2-scaled.jpg
ORGANIZER;CN="ACTECIR":MAILTO:actecir@actecir.cat
END:VEVENT
END:VCALENDAR