BEGIN:VCALENDAR
VERSION:2.0
PRODID:-//Actecir - ECPv6.15.18//NONSGML v1.0//EN
CALSCALE:GREGORIAN
METHOD:PUBLISH
X-ORIGINAL-URL:https://www.actecir.cat/es/
X-WR-CALDESC:Eventos para Actecir
REFRESH-INTERVAL;VALUE=DURATION:PT1H
X-Robots-Tag:noindex
X-PUBLISHED-TTL:PT1H
BEGIN:VTIMEZONE
TZID:Europe/Madrid
BEGIN:DAYLIGHT
TZOFFSETFROM:+0100
TZOFFSETTO:+0200
TZNAME:CEST
DTSTART:20250330T010000
END:DAYLIGHT
BEGIN:STANDARD
TZOFFSETFROM:+0200
TZOFFSETTO:+0100
TZNAME:CET
DTSTART:20251026T010000
END:STANDARD
BEGIN:DAYLIGHT
TZOFFSETFROM:+0100
TZOFFSETTO:+0200
TZNAME:CEST
DTSTART:20260329T010000
END:DAYLIGHT
BEGIN:STANDARD
TZOFFSETFROM:+0200
TZOFFSETTO:+0100
TZNAME:CET
DTSTART:20261025T010000
END:STANDARD
BEGIN:DAYLIGHT
TZOFFSETFROM:+0100
TZOFFSETTO:+0200
TZNAME:CEST
DTSTART:20270328T010000
END:DAYLIGHT
BEGIN:STANDARD
TZOFFSETFROM:+0200
TZOFFSETTO:+0100
TZNAME:CET
DTSTART:20271031T010000
END:STANDARD
END:VTIMEZONE
BEGIN:VEVENT
DTSTART;TZID=Europe/Madrid:20260304T160000
DTEND;TZID=Europe/Madrid:20260304T190000
DTSTAMP:20260424T170633
CREATED:20260115T135523Z
LAST-MODIFIED:20260310T135400Z
UID:10001707-1772640000-1772650800@www.actecir.cat
SUMMARY:1er Curso de Tecnologías y Sistemas de mejora de la Calidad del Aire Interior (IAQ) en Edificios e Infraestructuras
DESCRIPTION: 
URL:https://www.actecir.cat/es/event/1er-curso-de-tecnologias-y-sistemas-de-mejora-de-la-calidad-del-aire-interior-iaq-en-edificios-e-infraestructuras-2/2026-03-04/
LOCATION:ONLINE
CATEGORIES:Curso
ATTACH;FMTTYPE=image/png:https://www.actecir.cat/wp-content/uploads/2026/01/600x400px-Curs-Calidad-del-aire-2026_cast_DESTAQUEM-simple.png
END:VEVENT
BEGIN:VEVENT
DTSTART;TZID=Europe/Madrid:20260305T160000
DTEND;TZID=Europe/Madrid:20260305T200000
DTSTAMP:20260424T170633
CREATED:20260119T125918Z
LAST-MODIFIED:20260206T121851Z
UID:10001703-1772726400-1772740800@www.actecir.cat
SUMMARY:9º Curso Instalaciones Frigoríficas de CO2
DESCRIPTION:  \n9º Curso Instalaciones Frigoríficas de CO2 organizado por AEFYT con la colaboración de ACTECIR \nMás info ℹ️ https://www.actecir.cat/curs-dinstallacions-frigorifiques-de-co2/
URL:https://www.actecir.cat/es/event/9o-curso-instalaciones-frigorificas-de-co2-2/2026-03-05/
LOCATION:Barcelona
CATEGORIES:Curso
ATTACH;FMTTYPE=image/png:https://www.actecir.cat/wp-content/uploads/2026/01/600X400_9oCurso-CO2-AEFYT_2026_cast.png
END:VEVENT
BEGIN:VEVENT
DTSTART;TZID=Europe/Madrid:20260311T160000
DTEND;TZID=Europe/Madrid:20260311T190000
DTSTAMP:20260424T170633
CREATED:20260115T135523Z
LAST-MODIFIED:20260310T135400Z
UID:10001708-1773244800-1773255600@www.actecir.cat
SUMMARY:1er Curso de Tecnologías y Sistemas de mejora de la Calidad del Aire Interior (IAQ) en Edificios e Infraestructuras
DESCRIPTION: 
URL:https://www.actecir.cat/es/event/1er-curso-de-tecnologias-y-sistemas-de-mejora-de-la-calidad-del-aire-interior-iaq-en-edificios-e-infraestructuras-2/2026-03-11/
LOCATION:ONLINE
CATEGORIES:Curso
ATTACH;FMTTYPE=image/png:https://www.actecir.cat/wp-content/uploads/2026/01/600x400px-Curs-Calidad-del-aire-2026_cast_DESTAQUEM-simple.png
END:VEVENT
BEGIN:VEVENT
DTSTART;TZID=Europe/Madrid:20260312T180000
DTEND;TZID=Europe/Madrid:20260312T200000
DTSTAMP:20260424T170633
CREATED:20260119T131340Z
LAST-MODIFIED:20260309T144544Z
UID:10001696-1773338400-1773345600@www.actecir.cat
SUMMARY:Visita las nuevas oficinas y showroom de AIRZONE
DESCRIPTION:ℹ️  MÁS INFORMACIÓN  ℹ️
URL:https://www.actecir.cat/es/event/jornada-a-les-noves-oficines-i-showroom-dairzone/
LOCATION:Barcelona
CATEGORIES:Visitas técnicas
ATTACH;FMTTYPE=image/png:https://www.actecir.cat/wp-content/uploads/2026/02/600x400-jornada-AIRZONE_para-12-MARC_2026_cast_NOVA2.png
END:VEVENT
BEGIN:VEVENT
DTSTART;TZID=Europe/Madrid:20260318T090000
DTEND;TZID=Europe/Madrid:20260318T150000
DTSTAMP:20260424T170633
CREATED:20260309T144139Z
LAST-MODIFIED:20260309T144858Z
UID:10001705-1773824400-1773846000@www.actecir.cat
SUMMARY:Brunch Técnico ACTECIR – visita fábrica HITACHI
DESCRIPTION:MÁS INFORMACIÓN
URL:https://www.actecir.cat/es/event/brunch-tecnico-actecir-visita-fabrica-hitachi/
LOCATION:Barcelona
CATEGORIES:Vistas técnicas
ATTACH;FMTTYPE=image/png:https://www.actecir.cat/wp-content/uploads/2026/02/600x400-Brunch-Hitachi_marc-2026_cast.png
END:VEVENT
BEGIN:VEVENT
DTSTART;TZID=Europe/Madrid:20260318T160000
DTEND;TZID=Europe/Madrid:20260318T190000
DTSTAMP:20260424T170633
CREATED:20260115T135523Z
LAST-MODIFIED:20260310T135400Z
UID:10001709-1773849600-1773860400@www.actecir.cat
SUMMARY:1er Curso de Tecnologías y Sistemas de mejora de la Calidad del Aire Interior (IAQ) en Edificios e Infraestructuras
DESCRIPTION: 
URL:https://www.actecir.cat/es/event/1er-curso-de-tecnologias-y-sistemas-de-mejora-de-la-calidad-del-aire-interior-iaq-en-edificios-e-infraestructuras-2/2026-03-18/
LOCATION:ONLINE
CATEGORIES:Curso
ATTACH;FMTTYPE=image/png:https://www.actecir.cat/wp-content/uploads/2026/01/600x400px-Curs-Calidad-del-aire-2026_cast_DESTAQUEM-simple.png
END:VEVENT
END:VCALENDAR