BEGIN:VCALENDAR
VERSION:2.0
PRODID:-//Actecir - ECPv6.15.18//NONSGML v1.0//EN
CALSCALE:GREGORIAN
METHOD:PUBLISH
X-WR-CALNAME:Actecir
X-ORIGINAL-URL:https://www.actecir.cat/es/
X-WR-CALDESC:Eventos para Actecir
REFRESH-INTERVAL;VALUE=DURATION:PT1H
X-Robots-Tag:noindex
X-PUBLISHED-TTL:PT1H
BEGIN:VTIMEZONE
TZID:Europe/Madrid
BEGIN:DAYLIGHT
TZOFFSETFROM:+0100
TZOFFSETTO:+0200
TZNAME:CEST
DTSTART:20250330T010000
END:DAYLIGHT
BEGIN:STANDARD
TZOFFSETFROM:+0200
TZOFFSETTO:+0100
TZNAME:CET
DTSTART:20251026T010000
END:STANDARD
BEGIN:DAYLIGHT
TZOFFSETFROM:+0100
TZOFFSETTO:+0200
TZNAME:CEST
DTSTART:20260329T010000
END:DAYLIGHT
BEGIN:STANDARD
TZOFFSETFROM:+0200
TZOFFSETTO:+0100
TZNAME:CET
DTSTART:20261025T010000
END:STANDARD
BEGIN:DAYLIGHT
TZOFFSETFROM:+0100
TZOFFSETTO:+0200
TZNAME:CEST
DTSTART:20270328T010000
END:DAYLIGHT
BEGIN:STANDARD
TZOFFSETFROM:+0200
TZOFFSETTO:+0100
TZNAME:CET
DTSTART:20271031T010000
END:STANDARD
END:VTIMEZONE
BEGIN:VEVENT
DTSTART;TZID=Europe/Madrid:20260422T160000
DTEND;TZID=Europe/Madrid:20260422T190000
DTSTAMP:20260422T121124
CREATED:20260115T135523Z
LAST-MODIFIED:20260310T135400Z
UID:10001712-1776873600-1776884400@www.actecir.cat
SUMMARY:1er Curso de Tecnologías y Sistemas de mejora de la Calidad del Aire Interior (IAQ) en Edificios e Infraestructuras
DESCRIPTION: 
URL:https://www.actecir.cat/es/event/1er-curso-de-tecnologias-y-sistemas-de-mejora-de-la-calidad-del-aire-interior-iaq-en-edificios-e-infraestructuras-2/2026-04-22/
LOCATION:ONLINE
CATEGORIES:Curso
ATTACH;FMTTYPE=image/png:https://www.actecir.cat/wp-content/uploads/2026/01/600x400px-Curs-Calidad-del-aire-2026_cast_DESTAQUEM-simple.png
END:VEVENT
BEGIN:VEVENT
DTSTART;TZID=Europe/Madrid:20260506T090000
DTEND;TZID=Europe/Madrid:20260506T150000
DTSTAMP:20260422T121124
CREATED:20260421T114243Z
LAST-MODIFIED:20260421T114711Z
UID:10001717-1778058000-1778079600@www.actecir.cat
SUMMARY:NUEVO Brunch Técnico * HITACHI-ACTECIR
DESCRIPTION:  \nNueva oportunidad para toda nuestra comunidad: visita a la fábrica de HITACHI y asistencia a una MasterClass dedicada a las normas básicas de una instalación VRF \, impartida por Pere Vilanova. \n  \n \n  \n \n 
URL:https://www.actecir.cat/es/event/nuevo-brunch-tecnico-hitachi-actecir/
LOCATION:Instal·lacions de Hitachi\, Vacarisses (Barcelona)\, Can Torrella\, Ronda Shimizu\, 1\, Polígono Ind.\, Vacarisses\, Barcelona\, 08233\, Spain
CATEGORIES:Vistas técnicas
ATTACH;FMTTYPE=image/png:https://www.actecir.cat/wp-content/uploads/2026/04/600x400-Brunch-Hitachi_maig-2026_cat-2.png
END:VEVENT
BEGIN:VEVENT
DTSTART;TZID=Europe/Madrid:20260521T090000
DTEND;TZID=Europe/Madrid:20260521T190000
DTSTAMP:20260422T121124
CREATED:20260421T115227Z
LAST-MODIFIED:20260421T120537Z
UID:10001719-1779354000-1779390000@www.actecir.cat
SUMMARY:5ª Ed. CURSO CLIMATIZACIÓN EN DATA CENTERS
DESCRIPTION:  \nNueva edición Curso Básico de Climatización en Data Centers. Más información: https://www.actecir.cat/es/curso-basico-climatizacion-data-centers-2/
URL:https://www.actecir.cat/es/event/5a-ed-curso-climatizacion-en-fecha-centeros/
LOCATION:Seu ACTECIR Fira de Barcelona
CATEGORIES:Curso
ATTACH;FMTTYPE=image/png:https://www.actecir.cat/wp-content/uploads/2026/04/Curs-Data-Centers-5aed_cast.png
ORGANIZER;CN="ACTECIR":MAILTO:actecir@actecir.cat
END:VEVENT
BEGIN:VEVENT
DTSTART;TZID=Europe/Madrid:20260611T200000
DTEND;TZID=Europe/Madrid:20260611T233000
DTSTAMP:20260422T121124
CREATED:20260421T115835Z
LAST-MODIFIED:20260421T120432Z
UID:10001721-1781208000-1781220600@www.actecir.cat
SUMMARY:Evento GENERANDO LO MEJOR CLIMA
DESCRIPTION:11 JUNIO 2026 I 20.00h I La Masía de Esplugues (Barcelona) \nMÁS INFORMACIÓN
URL:https://www.actecir.cat/es/event/evento-generando-lo-mejor-clima/
LOCATION:La Masia d’Esplugues
CATEGORIES:Actos
ATTACH;FMTTYPE=image/png:https://www.actecir.cat/wp-content/uploads/2026/04/600X400-Generant-el-Millor-Clima_-save-the-date_cast-1.png
ORGANIZER;CN="ACTECIR":MAILTO:actecir@actecir.cat
END:VEVENT
END:VCALENDAR