BEGIN:VCALENDAR
VERSION:2.0
PRODID:-//Actecir - ECPv6.15.18//NONSGML v1.0//EN
CALSCALE:GREGORIAN
METHOD:PUBLISH
X-WR-CALNAME:Actecir
X-ORIGINAL-URL:https://www.actecir.cat
X-WR-CALDESC:Esdeveniments per Actecir
REFRESH-INTERVAL;VALUE=DURATION:PT1H
X-Robots-Tag:noindex
X-PUBLISHED-TTL:PT1H
BEGIN:VTIMEZONE
TZID:Europe/Madrid
BEGIN:DAYLIGHT
TZOFFSETFROM:+0100
TZOFFSETTO:+0200
TZNAME:CEST
DTSTART:20240331T010000
END:DAYLIGHT
BEGIN:STANDARD
TZOFFSETFROM:+0200
TZOFFSETTO:+0100
TZNAME:CET
DTSTART:20241027T010000
END:STANDARD
BEGIN:DAYLIGHT
TZOFFSETFROM:+0100
TZOFFSETTO:+0200
TZNAME:CEST
DTSTART:20250330T010000
END:DAYLIGHT
BEGIN:STANDARD
TZOFFSETFROM:+0200
TZOFFSETTO:+0100
TZNAME:CET
DTSTART:20251026T010000
END:STANDARD
BEGIN:DAYLIGHT
TZOFFSETFROM:+0100
TZOFFSETTO:+0200
TZNAME:CEST
DTSTART:20260329T010000
END:DAYLIGHT
BEGIN:STANDARD
TZOFFSETFROM:+0200
TZOFFSETTO:+0100
TZNAME:CET
DTSTART:20261025T010000
END:STANDARD
END:VTIMEZONE
BEGIN:VEVENT
DTSTART;TZID=Europe/Madrid:20250515T083000
DTEND;TZID=Europe/Madrid:20250515T140000
DTSTAMP:20260424T223529
CREATED:20250423T083048Z
LAST-MODIFIED:20250423T083049Z
UID:10001551-1747297800-1747317600@www.actecir.cat
SUMMARY:Jornada tècnica: Infraestructura Modular i Refrigeració Evolutiva per a Data Centers
DESCRIPTION:
URL:https://www.actecir.cat/event/jornada-tecnica-infraestructura-modular-i-refrigeracio-evolutiva-per-a-data-centers/
LOCATION:Col·legi d’Enginyers Graduats i Enginyers Tècnics Industrials de Barcelona (ENGINYERS BCN)\, C/ Consell de Cent\, 365\, Barcelona\, Barcelona\, 08009\, Espanya
CATEGORIES:Jornades
ATTACH;FMTTYPE=image/png:https://www.actecir.cat/wp-content/uploads/2025/04/Jornada-Equifab-Rittal-Stulz_cat.png
END:VEVENT
END:VCALENDAR