BEGIN:VCALENDAR
VERSION:2.0
PRODID:-//Actecir - ECPv6.15.18//NONSGML v1.0//EN
CALSCALE:GREGORIAN
METHOD:PUBLISH
X-WR-CALNAME:Actecir
X-ORIGINAL-URL:https://www.actecir.cat
X-WR-CALDESC:Esdeveniments per Actecir
REFRESH-INTERVAL;VALUE=DURATION:PT1H
X-Robots-Tag:noindex
X-PUBLISHED-TTL:PT1H
BEGIN:VTIMEZONE
TZID:Europe/Madrid
BEGIN:DAYLIGHT
TZOFFSETFROM:+0100
TZOFFSETTO:+0200
TZNAME:CEST
DTSTART:20230326T010000
END:DAYLIGHT
BEGIN:STANDARD
TZOFFSETFROM:+0200
TZOFFSETTO:+0100
TZNAME:CET
DTSTART:20231029T010000
END:STANDARD
BEGIN:DAYLIGHT
TZOFFSETFROM:+0100
TZOFFSETTO:+0200
TZNAME:CEST
DTSTART:20240331T010000
END:DAYLIGHT
BEGIN:STANDARD
TZOFFSETFROM:+0200
TZOFFSETTO:+0100
TZNAME:CET
DTSTART:20241027T010000
END:STANDARD
BEGIN:DAYLIGHT
TZOFFSETFROM:+0100
TZOFFSETTO:+0200
TZNAME:CEST
DTSTART:20250330T010000
END:DAYLIGHT
BEGIN:STANDARD
TZOFFSETFROM:+0200
TZOFFSETTO:+0100
TZNAME:CET
DTSTART:20251026T010000
END:STANDARD
BEGIN:DAYLIGHT
TZOFFSETFROM:+0100
TZOFFSETTO:+0200
TZNAME:CEST
DTSTART:20260329T010000
END:DAYLIGHT
BEGIN:STANDARD
TZOFFSETFROM:+0200
TZOFFSETTO:+0100
TZNAME:CET
DTSTART:20261025T010000
END:STANDARD
BEGIN:DAYLIGHT
TZOFFSETFROM:+0100
TZOFFSETTO:+0200
TZNAME:CEST
DTSTART:20270328T010000
END:DAYLIGHT
BEGIN:STANDARD
TZOFFSETFROM:+0200
TZOFFSETTO:+0100
TZNAME:CET
DTSTART:20271031T010000
END:STANDARD
END:VTIMEZONE
BEGIN:VEVENT
DTSTART;TZID=Europe/Madrid:20260422T160000
DTEND;TZID=Europe/Madrid:20260422T190000
DTSTAMP:20260424T145735
CREATED:20260115T135523Z
LAST-MODIFIED:20260115T140132Z
UID:10001662-1776873600-1776884400@www.actecir.cat
SUMMARY:1er Curs de Tecnologies i Sistemes de millora de la Qualitat de l’Aire Interior (IAQ) en Edificis i Infraestructures
DESCRIPTION: 
URL:https://www.actecir.cat/event/1er-curs-de-tecnologies-i-sistemes-de-millora-de-la-qualitat-de-laire-interior-iaq-en-edificis-i-infraestructures/2026-04-22/
LOCATION:ONLINE
CATEGORIES:Curs
ATTACH;FMTTYPE=image/png:https://www.actecir.cat/wp-content/uploads/2026/01/600x400-Curs-Calidad-del-aire-2026_cat_DESTAQUEM-simple.png
END:VEVENT
BEGIN:VEVENT
DTSTART;TZID=Europe/Madrid:20260318T090000
DTEND;TZID=Europe/Madrid:20260318T150000
DTSTAMP:20260424T145735
CREATED:20260309T144139Z
LAST-MODIFIED:20260309T144210Z
UID:10001704-1773824400-1773846000@www.actecir.cat
SUMMARY:Brunch Técnico ACTECIR – visita fàbrica HITACHI
DESCRIPTION:MÉS INFORMACIÓ 
URL:https://www.actecir.cat/event/21128/
LOCATION:Barcelona
CATEGORIES:Vistes tècniques
ATTACH;FMTTYPE=image/png:https://www.actecir.cat/wp-content/uploads/2026/02/600x400-Brunch-Hitachi_marc-2026_cat-1.png
END:VEVENT
BEGIN:VEVENT
DTSTART;TZID=Europe/Madrid:20260312T180000
DTEND;TZID=Europe/Madrid:20260312T200000
DTSTAMP:20260424T145735
CREATED:20260119T131340Z
LAST-MODIFIED:20260309T143618Z
UID:10001697-1773338400-1773345600@www.actecir.cat
SUMMARY:Jornada a les noves oficines i showroom d'AIRZONE
DESCRIPTION:ℹ️ MÉS INFORMACIÓ ℹ️
URL:https://www.actecir.cat/event/jornada-a-les-noves-oficines-i-showroom-dairzone/
LOCATION:Barcelona
CATEGORIES:Visites tècniques
ATTACH;FMTTYPE=image/png:https://www.actecir.cat/wp-content/uploads/2026/02/600x400-jornada-AIRZONE_para-12-MARC_2026_cat_NOVA2.png
END:VEVENT
BEGIN:VEVENT
DTSTART;TZID=Europe/Madrid:20260305T160000
DTEND;TZID=Europe/Madrid:20260305T200000
DTSTAMP:20260424T145735
CREATED:20260119T125918Z
LAST-MODIFIED:20260119T125918Z
UID:10001688-1772726400-1772740800@www.actecir.cat
SUMMARY:9è Curs Instal·lacions Frigorífiques de CO2
DESCRIPTION:  \n9è Curs Instal·lacions Frigorífiques de CO2 organitzat per AEFYT amb la colaboració d’ACTECIR \nMès info ℹ️ https://www.actecir.cat/curs-dinstallacions-frigorifiques-de-co2/
URL:https://www.actecir.cat/event/9e-curs-installacions-frigorifiques-de-co2/2026-03-05/
LOCATION:Barcelona
CATEGORIES:Curs
ATTACH;FMTTYPE=image/png:https://www.actecir.cat/wp-content/uploads/2026/01/600X400_9oCurso-CO2-AEFYT_2026_cat.png
END:VEVENT
BEGIN:VEVENT
DTSTART;TZID=Europe/Madrid:20251224T160000
DTEND;TZID=Europe/Madrid:20260106T235900
DTSTAMP:20260424T145735
CREATED:20251218T180839Z
LAST-MODIFIED:20251218T181123Z
UID:10001653-1766592000-1767743940@www.actecir.cat
SUMMARY:VACANCES DE NADAL en ACTECIR
DESCRIPTION:  \nACTECIR romandrà tancat des del 25 de desembre fins al 6 de gener.\nEl 7 de gener estem de tornada \nBon Nadal!
URL:https://www.actecir.cat/event/vacances-de-nadal-en-actecir/
LOCATION:Barcelona
CATEGORIES:Vacances
ATTACH;FMTTYPE=image/png:https://www.actecir.cat/wp-content/uploads/2025/12/600x400_bon-nada-2025_cat.png
END:VEVENT
BEGIN:VEVENT
DTSTART;TZID=Europe/Madrid:20251217T160000
DTEND;TZID=Europe/Madrid:20251217T200000
DTSTAMP:20260424T145735
CREATED:20250701T082030Z
LAST-MODIFIED:20251016T112640Z
UID:10001577-1765987200-1766001600@www.actecir.cat
SUMMARY:5è Curs de Disseny i Càlcul d’Instal·lacions de Climatització i Ventilació
DESCRIPTION:
URL:https://www.actecir.cat/event/5e-curs-de-disseny-i-calcul-dinstallacions-de-climatitzacio-i-ventilacio-2/2025-12-17/
LOCATION:Barcelona
CATEGORIES:Curs
ATTACH;FMTTYPE=image/png:https://www.actecir.cat/wp-content/uploads/2025/07/Curs-Clima-2025_cat.png
END:VEVENT
BEGIN:VEVENT
DTSTART;TZID=Europe/Madrid:20251121T160000
DTEND;TZID=Europe/Madrid:20251121T200000
DTSTAMP:20260424T145735
CREATED:20250919T095641Z
LAST-MODIFIED:20250919T095642Z
UID:10001614-1763740800-1763755200@www.actecir.cat
SUMMARY:6è Curs d’instal·lacions Frigorífiques amb Amoníac
DESCRIPTION:
URL:https://www.actecir.cat/event/6e-curs-dinstallacions-frigorifiques-amb-amoniac/2025-11-21/
LOCATION:Barcelona
CATEGORIES:Curs
ATTACH;FMTTYPE=image/png:https://www.actecir.cat/wp-content/uploads/2025/09/AMONIAC_2025_cat.png
ORGANIZER;CN="AEFYT":MAILTO:aefyt@aefyt.es
END:VEVENT
BEGIN:VEVENT
DTSTART;TZID=Europe/Madrid:20251104T110000
DTEND;TZID=Europe/Madrid:20251104T120000
DTSTAMP:20260424T145735
CREATED:20251024T113701Z
LAST-MODIFIED:20251024T113701Z
UID:10001649-1762254000-1762257600@www.actecir.cat
SUMMARY:Webinar ITALSAN
DESCRIPTION:
URL:https://www.actecir.cat/event/webinar-italsan-2/
LOCATION:Barcelona
CATEGORIES:Webinars
ATTACH;FMTTYPE=image/png:https://www.actecir.cat/wp-content/uploads/2025/10/Webinar-Italsan_cat-1.png
END:VEVENT
BEGIN:VEVENT
DTSTART;TZID=Europe/Madrid:20251030T160000
DTEND;TZID=Europe/Madrid:20251030T200000
DTSTAMP:20260424T145736
CREATED:20250919T102937Z
LAST-MODIFIED:20250919T102938Z
UID:10001631-1761840000-1761854400@www.actecir.cat
SUMMARY:8è Curs d’Instal·lacions Frigorífiques amb Refrigerants Inflamables
DESCRIPTION:
URL:https://www.actecir.cat/event/8e-curs-dinstallacions-frigorifiques-amb-refrigerants-inflamables/2025-10-30/
LOCATION:Barcelona
CATEGORIES:Curs
ATTACH;FMTTYPE=image/png:https://www.actecir.cat/wp-content/uploads/2025/09/INFLAMABLES_2025_cat-1.png
ORGANIZER;CN="AEFYT":MAILTO:aefyt@aefyt.es
END:VEVENT
BEGIN:VEVENT
DTSTART;TZID=Europe/Madrid:20251015T160000
DTEND;TZID=Europe/Madrid:20251015T200000
DTSTAMP:20260424T145736
CREATED:20250701T080736Z
LAST-MODIFIED:20250701T080904Z
UID:10001566-1760544000-1760558400@www.actecir.cat
SUMMARY:5è Curs de Disseny i Càlcul d’Instal·lacions de Climatització i Ventilació
DESCRIPTION:
URL:https://www.actecir.cat/event/5e-curs-de-disseny-i-calcul-dinstallacions-de-climatitzacio-i-ventilacio/
LOCATION:Fira Barcelona (Recinte Montjuïc – Pavelló 8)
CATEGORIES:Curs
ATTACH;FMTTYPE=image/png:https://www.actecir.cat/wp-content/uploads/2025/07/Curs-Clima-2025_cat.png
END:VEVENT
BEGIN:VEVENT
DTSTART;TZID=Europe/Madrid:20251009T093000
DTEND;TZID=Europe/Madrid:20251009T180000
DTSTAMP:20260424T145736
CREATED:20250919T105415Z
LAST-MODIFIED:20250919T105553Z
UID:10001638-1760002200-1760032800@www.actecir.cat
SUMMARY:EFINTEC 2025
DESCRIPTION:
URL:https://www.actecir.cat/event/efintec-2025/2025-10-09/
LOCATION:Fira Barcelona Gran Via\, Av. Joan Carles I\, 64\, 08908 Barcelona\, Barcelona\, Barcelona\, 08908\, Spain
CATEGORIES:Fires
ATTACH;FMTTYPE=image/png:https://www.actecir.cat/wp-content/uploads/2025/09/PORTADA-EFINTEC-CAST-1.png
ORGANIZER;CN="EFINTEC":MAILTO:info@efintec.es
END:VEVENT
BEGIN:VEVENT
DTSTART;VALUE=DATE:20250804
DTEND;VALUE=DATE:20250818
DTSTAMP:20260424T145736
CREATED:20250724T113032Z
LAST-MODIFIED:20250724T113032Z
UID:10001599-1754265600-1755475199@www.actecir.cat
SUMMARY:Vacances ACTECIR 2025
DESCRIPTION:
URL:https://www.actecir.cat/event/vacances-actecir-2025/
LOCATION:Barcelona
CATEGORIES:Vacances
ATTACH;FMTTYPE=image/png:https://www.actecir.cat/wp-content/uploads/2025/07/Vacances-ACTECIR-2025_2.png
END:VEVENT
BEGIN:VEVENT
DTSTART;TZID=Europe/Madrid:20250717T180000
DTEND;TZID=Europe/Madrid:20250717T230000
DTSTAMP:20260424T145736
CREATED:20250703T094732Z
LAST-MODIFIED:20250703T094732Z
UID:10001590-1752775200-1752793200@www.actecir.cat
SUMMARY:Junta General de Socis i Sòcies ACTECIR 2025
DESCRIPTION:
URL:https://www.actecir.cat/event/junta-general-de-socis-i-socies-actecir-2025/
LOCATION:Barcelona
CATEGORIES:Actes
ATTACH;FMTTYPE=image/png:https://www.actecir.cat/wp-content/uploads/2025/07/Junta-General-Ordinaria-SOCIS-2025.png
END:VEVENT
BEGIN:VEVENT
DTSTART;TZID=Europe/Madrid:20250710T150000
DTEND;TZID=Europe/Madrid:20250710T200000
DTSTAMP:20260424T145736
CREATED:20250606T095602Z
LAST-MODIFIED:20250606T095602Z
UID:10001565-1752159600-1752177600@www.actecir.cat
SUMMARY:4a Edició. Curs Aerotèrmia
DESCRIPTION:
URL:https://www.actecir.cat/event/4a-edicio-curs-aerotermia/2025-07-10/
LOCATION:Barcelona
CATEGORIES:Curs
ATTACH;FMTTYPE=image/png:https://www.actecir.cat/wp-content/uploads/2025/06/Curs-Aerotermia-2025_cat.png
END:VEVENT
BEGIN:VEVENT
DTSTART;TZID=Europe/Madrid:20250625T160000
DTEND;TZID=Europe/Madrid:20250625T200000
DTSTAMP:20260424T145736
CREATED:20250404T115813Z
LAST-MODIFIED:20250404T120231Z
UID:10001539-1750867200-1750881600@www.actecir.cat
SUMMARY:8è Curs d’Instal·lacions Frigorífiques de CO2
DESCRIPTION:
URL:https://www.actecir.cat/event/8e-curs-dinstallacions-frigorifiques-de-co2/2025-06-25/
LOCATION:ONLINE
CATEGORIES:Curs
ATTACH;FMTTYPE=image/jpeg:https://www.actecir.cat/wp-content/uploads/2025/03/portada_cat_co2-1.jpg
ORGANIZER;CN="AEFYT":MAILTO:aefyt@aefyt.es
END:VEVENT
BEGIN:VEVENT
DTSTART;TZID=Europe/Madrid:20250618T100000
DTEND;TZID=Europe/Madrid:20250618T110000
DTSTAMP:20260424T145736
CREATED:20250606T091822Z
LAST-MODIFIED:20250606T091926Z
UID:10001560-1750240800-1750244400@www.actecir.cat
SUMMARY:Webinar ITALSAN
DESCRIPTION:
URL:https://www.actecir.cat/event/webinar-italsan/
LOCATION:ONLINE
CATEGORIES:Webinars
ATTACH;FMTTYPE=image/png:https://www.actecir.cat/wp-content/uploads/2025/06/WEBINAR-ITALSAN-2025_cat.png
END:VEVENT
BEGIN:VEVENT
DTSTART;TZID=Europe/Madrid:20250529T200000
DTEND;TZID=Europe/Madrid:20250529T200000
DTSTAMP:20260424T145736
CREATED:20250422T085445Z
LAST-MODIFIED:20250422T085609Z
UID:10001547-1748548800-1748548800@www.actecir.cat
SUMMARY:9a edició. Generant el millor Clima
DESCRIPTION:
URL:https://www.actecir.cat/event/9a-edicio-generant-el-millor-clima-2/
LOCATION:Esfèric Barcelona
CATEGORIES:Actes
ATTACH;FMTTYPE=image/jpeg:https://www.actecir.cat/wp-content/uploads/2025/04/Portada-destaquem.jpg
ORGANIZER;CN="ACTECIR":MAILTO:actecir@actecir.cat
END:VEVENT
BEGIN:VEVENT
DTSTART;TZID=Europe/Madrid:20250515T083000
DTEND;TZID=Europe/Madrid:20250515T140000
DTSTAMP:20260424T145736
CREATED:20250423T083048Z
LAST-MODIFIED:20250423T083049Z
UID:10001551-1747297800-1747317600@www.actecir.cat
SUMMARY:Jornada tècnica: Infraestructura Modular i Refrigeració Evolutiva per a Data Centers
DESCRIPTION:
URL:https://www.actecir.cat/event/jornada-tecnica-infraestructura-modular-i-refrigeracio-evolutiva-per-a-data-centers/
LOCATION:Col·legi d’Enginyers Graduats i Enginyers Tècnics Industrials de Barcelona (ENGINYERS BCN)\, C/ Consell de Cent\, 365\, Barcelona\, Barcelona\, 08009\, Espanya
CATEGORIES:Jornades
ATTACH;FMTTYPE=image/png:https://www.actecir.cat/wp-content/uploads/2025/04/Jornada-Equifab-Rittal-Stulz_cat.png
END:VEVENT
BEGIN:VEVENT
DTSTART;TZID=Europe/Madrid:20250425T130000
DTEND;TZID=Europe/Madrid:20250425T140000
DTSTAMP:20260424T145736
CREATED:20250422T090252Z
LAST-MODIFIED:20250422T090456Z
UID:10001550-1745586000-1745589600@www.actecir.cat
SUMMARY:WEBINAR Giacomini
DESCRIPTION:
URL:https://www.actecir.cat/event/webinar-giacomini/
LOCATION:ONLINE
CATEGORIES:Webinars
ATTACH;FMTTYPE=image/png:https://www.actecir.cat/wp-content/uploads/2025/04/WEBINAR-GIACOMINI-2.png
END:VEVENT
BEGIN:VEVENT
DTSTART;TZID=Europe/Madrid:20250424T160000
DTEND;TZID=Europe/Madrid:20250424T200000
DTSTAMP:20260424T145736
CREATED:20250217T095525Z
LAST-MODIFIED:20250217T095525Z
UID:10001523-1745510400-1745524800@www.actecir.cat
SUMMARY:7è Curs d’Instal·lacions Frigorífiques de CO₂
DESCRIPTION:
URL:https://www.actecir.cat/event/7e-curs-dinstallacions-frigorifiques-de-co%e2%82%82/2025-04-24/
LOCATION:Barcelona
CATEGORIES:Curs
ATTACH;FMTTYPE=image/jpeg:https://www.actecir.cat/wp-content/uploads/2025/02/2-1.jpg
END:VEVENT
BEGIN:VEVENT
DTSTART;TZID=Europe/Madrid:20250319T090000
DTEND;TZID=Europe/Madrid:20250319T150000
DTSTAMP:20260424T145736
CREATED:20250217T103024Z
LAST-MODIFIED:20250217T103024Z
UID:10001525-1742374800-1742396400@www.actecir.cat
SUMMARY:BRUNCH Tècnic ACTECIR
DESCRIPTION:
URL:https://www.actecir.cat/event/brunch-tecnic-actecir/
LOCATION:Barcelona
CATEGORIES:Jornades,Vistes tècniques
ATTACH;FMTTYPE=image/jpeg:https://www.actecir.cat/wp-content/uploads/2025/02/2-2.jpg
ORGANIZER;CN="ACTECIR":MAILTO:actecir@actecir.cat
END:VEVENT
BEGIN:VEVENT
DTSTART;TZID=Europe/Madrid:20250307T090000
DTEND;TZID=Europe/Madrid:20250307T143000
DTSTAMP:20260424T145736
CREATED:20250123T114855Z
LAST-MODIFIED:20250124T112048Z
UID:10001509-1741338000-1741357800@www.actecir.cat
SUMMARY:3ª Edició Curso Climatització Data Centers
DESCRIPTION:
URL:https://www.actecir.cat/event/3a-edicio-curso-climatitzacio-data-centers/2025-03-07/
LOCATION:Barcelona
CATEGORIES:Curs
ATTACH;FMTTYPE=image/jpeg:https://www.actecir.cat/wp-content/uploads/2025/01/DATA_CENTERS_2025_Pagina_03-1-scaled.jpg
END:VEVENT
BEGIN:VEVENT
DTSTART;TZID=Europe/Madrid:20250130T180000
DTEND;TZID=Europe/Madrid:20250130T200000
DTSTAMP:20260424T145736
CREATED:20250120T130711Z
LAST-MODIFIED:20250120T130712Z
UID:10001501-1738260000-1738267200@www.actecir.cat
SUMMARY:Jornada Airzone - Hitachi
DESCRIPTION:
URL:https://www.actecir.cat/event/jornada-airzone-hitachi/
LOCATION:Aula Capella UPC\, Av. Diagonal 647\, 08028 Barcelona\, Barcelona\, 08028\, Spain
CATEGORIES:Jornades
ATTACH;FMTTYPE=image/jpeg:https://www.actecir.cat/wp-content/uploads/2025/01/Jornada_Airzone_Hitachi_Pagina_2-scaled.jpg
ORGANIZER;CN="ACTECIR":MAILTO:actecir@actecir.cat
END:VEVENT
BEGIN:VEVENT
DTSTART;VALUE=DATE:20241225
DTEND;VALUE=DATE:20250107
DTSTAMP:20260424T145736
CREATED:20241219T115606Z
LAST-MODIFIED:20241219T115606Z
UID:10001499-1735084800-1736207999@www.actecir.cat
SUMMARY:Vacances Nadal ACTECIR
DESCRIPTION:
URL:https://www.actecir.cat/event/vacances-nadal-actecir/
LOCATION:Barcelona
CATEGORIES:Vacances
ATTACH;FMTTYPE=image/gif:https://www.actecir.cat/wp-content/uploads/2024/12/Bon-Nadal-2024.gif
ORGANIZER;CN="ACTECIR":MAILTO:actecir@actecir.cat
END:VEVENT
BEGIN:VEVENT
DTSTART;TZID=Europe/Madrid:20241218T160000
DTEND;TZID=Europe/Madrid:20241218T200000
DTSTAMP:20260424T145736
CREATED:20240807T115057Z
LAST-MODIFIED:20240807T115058Z
UID:10001472-1734537600-1734552000@www.actecir.cat
SUMMARY:4t Curs de Disseny i Càlcul d’Instal·lacions de Climatització i Ventilació
DESCRIPTION:
URL:https://www.actecir.cat/event/4t-curs-de-disseny-i-calcul-dinstallacions-de-climatitzacio-i-ventilacio/2024-12-18/
LOCATION:Mixta: Online / Presencial
CATEGORIES:Curs
ATTACH;FMTTYPE=image/jpeg:https://www.actecir.cat/wp-content/uploads/2024/07/Portada_web_cat.jpg
ORGANIZER;CN="ACTECIR":MAILTO:actecir@actecir.cat
END:VEVENT
BEGIN:VEVENT
DTSTART;TZID=Europe/Madrid:20241217T193000
DTEND;TZID=Europe/Madrid:20241217T210000
DTSTAMP:20260424T145736
CREATED:20241127T105844Z
LAST-MODIFIED:20241127T110737Z
UID:10001497-1734463800-1734469200@www.actecir.cat
SUMMARY:Troada Nadal ACTECIR 2024
DESCRIPTION:
URL:https://www.actecir.cat/event/troada-nadal-actecir-2024/
LOCATION:Seu ACTECIR Fira de Barcelona
CATEGORIES:Actes
ATTACH;FMTTYPE=image/jpeg:https://www.actecir.cat/wp-content/uploads/2024/11/Banner-formulari_Pagina_1-scaled.jpg
ORGANIZER;CN="ACTECIR":MAILTO:actecir@actecir.cat
END:VEVENT
BEGIN:VEVENT
DTSTART;TZID=Europe/Madrid:20241114T160000
DTEND;TZID=Europe/Madrid:20241114T200000
DTSTAMP:20260424T145736
CREATED:20240916T124614Z
LAST-MODIFIED:20240916T124615Z
UID:10001486-1731600000-1731614400@www.actecir.cat
SUMMARY:Curs Amoníac 2024
DESCRIPTION:
URL:https://www.actecir.cat/event/curs-amoniac-2024/2024-11-14/
LOCATION:ONLINE
CATEGORIES:Curs
ATTACH;FMTTYPE=image/jpeg:https://www.actecir.cat/wp-content/uploads/2024/07/curso_amoniaco_2024_cat.jpg
ORGANIZER;CN="ACTECIR":MAILTO:actecir@actecir.cat
END:VEVENT
BEGIN:VEVENT
DTSTART;TZID=Europe/Madrid:20241112T110000
DTEND;TZID=Europe/Madrid:20241112T120000
DTSTAMP:20260424T145736
CREATED:20241030T103109Z
LAST-MODIFIED:20241030T104354Z
UID:10001495-1731409200-1731412800@www.actecir.cat
SUMMARY:Webinar tècnic CEILHIT: Impacte del nou Reial Decret 614/2024 per la prevenció i control de legionel·losi
DESCRIPTION:
URL:https://www.actecir.cat/event/webinar-tecnic-ceilhit-impacte-del-nou-reial-decret-614-2024-per-la-prevencio-i-control-de-legionel%c2%b7losi/
LOCATION:ONLINE
CATEGORIES:Webinars
ATTACH;FMTTYPE=image/jpeg:https://www.actecir.cat/wp-content/uploads/2024/10/banner_Pagina_1-scaled.jpg
ORGANIZER;CN="ACTECIR":MAILTO:actecir@actecir.cat
END:VEVENT
BEGIN:VEVENT
DTSTART;TZID=Europe/Madrid:20241029T093000
DTEND;TZID=Europe/Madrid:20241029T133000
DTSTAMP:20260424T145736
CREATED:20241024T095735Z
LAST-MODIFIED:20241024T095735Z
UID:10001493-1730194200-1730208600@www.actecir.cat
SUMMARY:Jornada tècnica: Impacte de la FGas en instal·lacions tèrmiques i de climatització: noves regles de joc
DESCRIPTION:
URL:https://www.actecir.cat/event/jornada-tecnica-impacte-de-la-fgas-en-installacions-termiques-i-de-climatitzacio-noves-regles-de-joc/
LOCATION:Enginyers Industrials de Catalunya\, Via Laietana\, 39\, Barcelona\, Spain
CATEGORIES:Jornades
ATTACH;FMTTYPE=image/jpeg:https://www.actecir.cat/wp-content/uploads/2024/10/AFEC_cat_destaquem-scaled.jpg
END:VEVENT
BEGIN:VEVENT
DTSTART;VALUE=DATE:20241016
DTEND;VALUE=DATE:20241018
DTSTAMP:20260424T145736
CREATED:20240926T110645Z
LAST-MODIFIED:20240926T110645Z
UID:10001491-1729036800-1729209599@www.actecir.cat
SUMMARY:Fira EFINTEC 2024
DESCRIPTION:
URL:https://www.actecir.cat/event/fira-efintec-2024/
LOCATION:Fira Barcelona (Recinte Montjuïc – Pavelló 8)
CATEGORIES:Fires
END:VEVENT
END:VCALENDAR