BEGIN:VCALENDAR
VERSION:2.0
PRODID:-//Actecir - ECPv6.15.18//NONSGML v1.0//EN
CALSCALE:GREGORIAN
METHOD:PUBLISH
X-ORIGINAL-URL:https://www.actecir.cat
X-WR-CALDESC:Esdeveniments per Actecir
REFRESH-INTERVAL;VALUE=DURATION:PT1H
X-Robots-Tag:noindex
X-PUBLISHED-TTL:PT1H
BEGIN:VTIMEZONE
TZID:Europe/Madrid
BEGIN:DAYLIGHT
TZOFFSETFROM:+0100
TZOFFSETTO:+0200
TZNAME:CEST
DTSTART:20210328T010000
END:DAYLIGHT
BEGIN:STANDARD
TZOFFSETFROM:+0200
TZOFFSETTO:+0100
TZNAME:CET
DTSTART:20211031T010000
END:STANDARD
BEGIN:DAYLIGHT
TZOFFSETFROM:+0100
TZOFFSETTO:+0200
TZNAME:CEST
DTSTART:20220327T010000
END:DAYLIGHT
BEGIN:STANDARD
TZOFFSETFROM:+0200
TZOFFSETTO:+0100
TZNAME:CET
DTSTART:20221030T010000
END:STANDARD
BEGIN:DAYLIGHT
TZOFFSETFROM:+0100
TZOFFSETTO:+0200
TZNAME:CEST
DTSTART:20230326T010000
END:DAYLIGHT
BEGIN:STANDARD
TZOFFSETFROM:+0200
TZOFFSETTO:+0100
TZNAME:CET
DTSTART:20231029T010000
END:STANDARD
BEGIN:DAYLIGHT
TZOFFSETFROM:+0100
TZOFFSETTO:+0200
TZNAME:CEST
DTSTART:20240331T010000
END:DAYLIGHT
BEGIN:STANDARD
TZOFFSETFROM:+0200
TZOFFSETTO:+0100
TZNAME:CET
DTSTART:20241027T010000
END:STANDARD
BEGIN:DAYLIGHT
TZOFFSETFROM:+0100
TZOFFSETTO:+0200
TZNAME:CEST
DTSTART:20250330T010000
END:DAYLIGHT
BEGIN:STANDARD
TZOFFSETFROM:+0200
TZOFFSETTO:+0100
TZNAME:CET
DTSTART:20251026T010000
END:STANDARD
BEGIN:DAYLIGHT
TZOFFSETFROM:+0100
TZOFFSETTO:+0200
TZNAME:CEST
DTSTART:20260329T010000
END:DAYLIGHT
BEGIN:STANDARD
TZOFFSETFROM:+0200
TZOFFSETTO:+0100
TZNAME:CET
DTSTART:20261025T010000
END:STANDARD
END:VTIMEZONE
BEGIN:VEVENT
DTSTART;TZID=Europe/Madrid:20251121T160000
DTEND;TZID=Europe/Madrid:20251121T200000
DTSTAMP:20260422T170637
CREATED:20250919T095641Z
LAST-MODIFIED:20250919T095642Z
UID:10001614-1763740800-1763755200@www.actecir.cat
SUMMARY:6è Curs d’instal·lacions Frigorífiques amb Amoníac
DESCRIPTION:
URL:https://www.actecir.cat/event/6e-curs-dinstallacions-frigorifiques-amb-amoniac/2025-11-21/
CATEGORIES:Curs
ATTACH;FMTTYPE=image/png:https://www.actecir.cat/wp-content/uploads/2025/09/AMONIAC_2025_cat.png
ORGANIZER;CN="AEFYT":MAILTO:aefyt@aefyt.es
END:VEVENT
BEGIN:VEVENT
DTSTART;TZID=Europe/Madrid:20251030T160000
DTEND;TZID=Europe/Madrid:20251030T200000
DTSTAMP:20260422T170637
CREATED:20250919T102937Z
LAST-MODIFIED:20250919T102938Z
UID:10001631-1761840000-1761854400@www.actecir.cat
SUMMARY:8è Curs d’Instal·lacions Frigorífiques amb Refrigerants Inflamables
DESCRIPTION:
URL:https://www.actecir.cat/event/8e-curs-dinstallacions-frigorifiques-amb-refrigerants-inflamables/2025-10-30/
CATEGORIES:Curs
ATTACH;FMTTYPE=image/png:https://www.actecir.cat/wp-content/uploads/2025/09/INFLAMABLES_2025_cat-1.png
ORGANIZER;CN="AEFYT":MAILTO:aefyt@aefyt.es
END:VEVENT
BEGIN:VEVENT
DTSTART;TZID=Europe/Madrid:20250625T160000
DTEND;TZID=Europe/Madrid:20250625T200000
DTSTAMP:20260422T170637
CREATED:20250404T115813Z
LAST-MODIFIED:20250404T120231Z
UID:10001539-1750867200-1750881600@www.actecir.cat
SUMMARY:8è Curs d’Instal·lacions Frigorífiques de CO2
DESCRIPTION:
URL:https://www.actecir.cat/event/8e-curs-dinstallacions-frigorifiques-de-co2/2025-06-25/
LOCATION:ONLINE
CATEGORIES:Curs
ATTACH;FMTTYPE=image/jpeg:https://www.actecir.cat/wp-content/uploads/2025/03/portada_cat_co2-1.jpg
ORGANIZER;CN="AEFYT":MAILTO:aefyt@aefyt.es
END:VEVENT
BEGIN:VEVENT
DTSTART;TZID=Europe/Madrid:20250529T200000
DTEND;TZID=Europe/Madrid:20250529T200000
DTSTAMP:20260422T170637
CREATED:20250422T085445Z
LAST-MODIFIED:20250422T085609Z
UID:10001547-1748548800-1748548800@www.actecir.cat
SUMMARY:9a edició. Generant el millor Clima
DESCRIPTION:
URL:https://www.actecir.cat/event/9a-edicio-generant-el-millor-clima-2/
LOCATION:Esfèric Barcelona
CATEGORIES:Actes
ATTACH;FMTTYPE=image/jpeg:https://www.actecir.cat/wp-content/uploads/2025/04/Portada-destaquem.jpg
ORGANIZER;CN="ACTECIR":MAILTO:actecir@actecir.cat
END:VEVENT
BEGIN:VEVENT
DTSTART;TZID=Europe/Madrid:20250319T090000
DTEND;TZID=Europe/Madrid:20250319T150000
DTSTAMP:20260422T170637
CREATED:20250217T103024Z
LAST-MODIFIED:20250217T103024Z
UID:10001525-1742374800-1742396400@www.actecir.cat
SUMMARY:BRUNCH Tècnic ACTECIR
DESCRIPTION:
URL:https://www.actecir.cat/event/brunch-tecnic-actecir/
CATEGORIES:Jornades,Vistes tècniques
ATTACH;FMTTYPE=image/jpeg:https://www.actecir.cat/wp-content/uploads/2025/02/2-2.jpg
ORGANIZER;CN="ACTECIR":MAILTO:actecir@actecir.cat
END:VEVENT
BEGIN:VEVENT
DTSTART;TZID=Europe/Madrid:20250130T180000
DTEND;TZID=Europe/Madrid:20250130T200000
DTSTAMP:20260422T170637
CREATED:20250120T130711Z
LAST-MODIFIED:20250120T130712Z
UID:10001501-1738260000-1738267200@www.actecir.cat
SUMMARY:Jornada Airzone - Hitachi
DESCRIPTION:
URL:https://www.actecir.cat/event/jornada-airzone-hitachi/
LOCATION:Aula Capella UPC\, Av. Diagonal 647\, 08028 Barcelona\, Barcelona\, 08028\, Spain
CATEGORIES:Jornades
ATTACH;FMTTYPE=image/jpeg:https://www.actecir.cat/wp-content/uploads/2025/01/Jornada_Airzone_Hitachi_Pagina_2-scaled.jpg
ORGANIZER;CN="ACTECIR":MAILTO:actecir@actecir.cat
END:VEVENT
BEGIN:VEVENT
DTSTART;VALUE=DATE:20241225
DTEND;VALUE=DATE:20250107
DTSTAMP:20260422T170637
CREATED:20241219T115606Z
LAST-MODIFIED:20241219T115606Z
UID:10001499-1735084800-1736207999@www.actecir.cat
SUMMARY:Vacances Nadal ACTECIR
DESCRIPTION:
URL:https://www.actecir.cat/event/vacances-nadal-actecir/
CATEGORIES:Vacances
ATTACH;FMTTYPE=image/gif:https://www.actecir.cat/wp-content/uploads/2024/12/Bon-Nadal-2024.gif
ORGANIZER;CN="ACTECIR":MAILTO:actecir@actecir.cat
END:VEVENT
BEGIN:VEVENT
DTSTART;TZID=Europe/Madrid:20241218T160000
DTEND;TZID=Europe/Madrid:20241218T200000
DTSTAMP:20260422T170637
CREATED:20240807T115057Z
LAST-MODIFIED:20240807T115058Z
UID:10001472-1734537600-1734552000@www.actecir.cat
SUMMARY:4t Curs de Disseny i Càlcul d’Instal·lacions de Climatització i Ventilació
DESCRIPTION:
URL:https://www.actecir.cat/event/4t-curs-de-disseny-i-calcul-dinstallacions-de-climatitzacio-i-ventilacio/2024-12-18/
LOCATION:Mixta: Online / Presencial
CATEGORIES:Curs
ATTACH;FMTTYPE=image/jpeg:https://www.actecir.cat/wp-content/uploads/2024/07/Portada_web_cat.jpg
ORGANIZER;CN="ACTECIR":MAILTO:actecir@actecir.cat
END:VEVENT
BEGIN:VEVENT
DTSTART;TZID=Europe/Madrid:20241217T193000
DTEND;TZID=Europe/Madrid:20241217T210000
DTSTAMP:20260422T170637
CREATED:20241127T105844Z
LAST-MODIFIED:20241127T110737Z
UID:10001497-1734463800-1734469200@www.actecir.cat
SUMMARY:Troada Nadal ACTECIR 2024
DESCRIPTION:
URL:https://www.actecir.cat/event/troada-nadal-actecir-2024/
LOCATION:Seu ACTECIR Fira de Barcelona
CATEGORIES:Actes
ATTACH;FMTTYPE=image/jpeg:https://www.actecir.cat/wp-content/uploads/2024/11/Banner-formulari_Pagina_1-scaled.jpg
ORGANIZER;CN="ACTECIR":MAILTO:actecir@actecir.cat
END:VEVENT
BEGIN:VEVENT
DTSTART;TZID=Europe/Madrid:20241114T160000
DTEND;TZID=Europe/Madrid:20241114T200000
DTSTAMP:20260422T170637
CREATED:20240916T124614Z
LAST-MODIFIED:20240916T124615Z
UID:10001486-1731600000-1731614400@www.actecir.cat
SUMMARY:Curs Amoníac 2024
DESCRIPTION:
URL:https://www.actecir.cat/event/curs-amoniac-2024/2024-11-14/
LOCATION:ONLINE
CATEGORIES:Curs
ATTACH;FMTTYPE=image/jpeg:https://www.actecir.cat/wp-content/uploads/2024/07/curso_amoniaco_2024_cat.jpg
ORGANIZER;CN="ACTECIR":MAILTO:actecir@actecir.cat
END:VEVENT
BEGIN:VEVENT
DTSTART;TZID=Europe/Madrid:20241112T110000
DTEND;TZID=Europe/Madrid:20241112T120000
DTSTAMP:20260422T170637
CREATED:20241030T103109Z
LAST-MODIFIED:20241030T104354Z
UID:10001495-1731409200-1731412800@www.actecir.cat
SUMMARY:Webinar tècnic CEILHIT: Impacte del nou Reial Decret 614/2024 per la prevenció i control de legionel·losi
DESCRIPTION:
URL:https://www.actecir.cat/event/webinar-tecnic-ceilhit-impacte-del-nou-reial-decret-614-2024-per-la-prevencio-i-control-de-legionel%c2%b7losi/
LOCATION:ONLINE
CATEGORIES:Webinars
ATTACH;FMTTYPE=image/jpeg:https://www.actecir.cat/wp-content/uploads/2024/10/banner_Pagina_1-scaled.jpg
ORGANIZER;CN="ACTECIR":MAILTO:actecir@actecir.cat
END:VEVENT
BEGIN:VEVENT
DTSTART;TZID=Europe/Madrid:20241029T093000
DTEND;TZID=Europe/Madrid:20241029T133000
DTSTAMP:20260422T170637
CREATED:20241024T095735Z
LAST-MODIFIED:20241024T095735Z
UID:10001493-1730194200-1730208600@www.actecir.cat
SUMMARY:Jornada tècnica: Impacte de la FGas en instal·lacions tèrmiques i de climatització: noves regles de joc
DESCRIPTION:
URL:https://www.actecir.cat/event/jornada-tecnica-impacte-de-la-fgas-en-installacions-termiques-i-de-climatitzacio-noves-regles-de-joc/
LOCATION:Enginyers Industrials de Catalunya\, Via Laietana\, 39\, Barcelona\, Spain
CATEGORIES:Jornades
ATTACH;FMTTYPE=image/jpeg:https://www.actecir.cat/wp-content/uploads/2024/10/AFEC_cat_destaquem-scaled.jpg
END:VEVENT
BEGIN:VEVENT
DTSTART;TZID=Europe/Madrid:20241009T100000
DTEND;TZID=Europe/Madrid:20241009T133000
DTSTAMP:20260422T170637
CREATED:20240926T110410Z
LAST-MODIFIED:20240926T110410Z
UID:10001490-1728468000-1728480600@www.actecir.cat
SUMMARY:Jornada FEGECA – ACTECIR: Instal·lacions de producció d’ACS per acumulació en obra nova i rehabilitació
DESCRIPTION:
URL:https://www.actecir.cat/event/jornada-fegeca-actecir-installacions-de-produccio-dacs-per-acumulacio-en-obra-nova-i-rehabilitacio/
LOCATION:Col·legi d’Enginyers Graduats i Enginyers Tècnics Industrials de Barcelona (ENGINYERS BCN)\, C/ Consella de Cent\, 365\, Barcelona\, Barcelona\, Espanya
CATEGORIES:Jornades
ATTACH;FMTTYPE=image/jpeg:https://www.actecir.cat/wp-content/uploads/2024/09/SEMINARI-FEGECA-ACTECIR-OCT.2024_Pagina_1.jpg
ORGANIZER;CN="ACTECIR":MAILTO:actecir@actecir.cat
END:VEVENT
BEGIN:VEVENT
DTSTART;TZID=Europe/Madrid:20241003T180000
DTEND;TZID=Europe/Madrid:20241003T190000
DTSTAMP:20260422T170637
CREATED:20240926T104533Z
LAST-MODIFIED:20240926T104533Z
UID:10001487-1727978400-1727982000@www.actecir.cat
SUMMARY:Webinar tècnic CEILHIT: Tot el que necessites saber sobre el Terra Radiant Elèctric
DESCRIPTION:
URL:https://www.actecir.cat/event/webinar-tecnic-ceilhit-tot-el-que-necessites-saber-sobre-el-terra-radiant-electric/
LOCATION:ONLINE
CATEGORIES:Webinars
ATTACH;FMTTYPE=image/jpeg:https://www.actecir.cat/wp-content/uploads/2024/09/JORNADA-CEILHIT-CATALA_1_Pagina_1-scaled.jpg
ORGANIZER;CN="ACTECIR":MAILTO:actecir@actecir.cat
END:VEVENT
BEGIN:VEVENT
DTSTART;TZID=Europe/Madrid:20240718T170000
DTEND;TZID=Europe/Madrid:20240718T200000
DTSTAMP:20260422T170637
CREATED:20240626T114300Z
LAST-MODIFIED:20240626T114301Z
UID:10001445-1721322000-1721332800@www.actecir.cat
SUMMARY:CURS AEROTÈRMIA 202
DESCRIPTION:
URL:https://www.actecir.cat/event/curs-aerotermia-202/2024-07-18/
LOCATION:ONLINE
CATEGORIES:Curs
ATTACH;FMTTYPE=image/jpeg:https://www.actecir.cat/wp-content/uploads/2024/06/CURS_AEROTERMIA_2024.jpg
ORGANIZER;CN="ACTECIR":MAILTO:actecir@actecir.cat
END:VEVENT
BEGIN:VEVENT
DTSTART;TZID=Europe/Madrid:20240606T180000
DTEND;TZID=Europe/Madrid:20240606T200000
DTSTAMP:20260422T170637
CREATED:20240604T080935Z
LAST-MODIFIED:20240604T082527Z
UID:10001440-1717696800-1717704000@www.actecir.cat
SUMMARY:Assemblea Socis 2024
DESCRIPTION:
URL:https://www.actecir.cat/event/assemblea-socis-2024/
LOCATION:HOTEL AC VICTORIA SUITES\, Carrer de Beltrán i Rózpide\, 7-9\, Les Corts\, 08034 Barcelona\, Barcelona\, Barcelona\, 08014\, España
ATTACH;FMTTYPE=image/jpeg:https://www.actecir.cat/wp-content/uploads/2024/06/Assamblea_2024.jpg
ORGANIZER;CN="ACTECIR":MAILTO:actecir@actecir.cat
END:VEVENT
BEGIN:VEVENT
DTSTART;TZID=Europe/Madrid:20240411T160000
DTEND;TZID=Europe/Madrid:20240411T200000
DTSTAMP:20260422T170637
CREATED:20240307T123633Z
LAST-MODIFIED:20240307T123937Z
UID:10001434-1712851200-1712865600@www.actecir.cat
SUMMARY:1a edició Curs d'Instal·lacions d'Aigua Calenta Sanitària
DESCRIPTION:
URL:https://www.actecir.cat/event/1a-edicio-curs-dinstallacions-daigua-calenta-sanitaria/2024-04-11/
LOCATION:Seu ACTECIR Fira de Barcelona
CATEGORIES:Curs
ATTACH;FMTTYPE=image/jpeg:https://www.actecir.cat/wp-content/uploads/2024/03/CURS_ACS_CAT.jpg
ORGANIZER;CN="ACTECIR":MAILTO:actecir@actecir.cat
END:VEVENT
BEGIN:VEVENT
DTSTART;TZID=Europe/Madrid:20240228T153000
DTEND;TZID=Europe/Madrid:20240228T193000
DTSTAMP:20260422T170637
CREATED:20231221T100924Z
LAST-MODIFIED:20240126T122643Z
UID:10001412-1709134200-1709148600@www.actecir.cat
SUMMARY:2a Edició CURS DATA CENTERS 2024
DESCRIPTION:
URL:https://www.actecir.cat/event/2a-edicio-curs-data-centers-2024/2024-02-28/
LOCATION:Seu ACTECIR Fira de Barcelona
CATEGORIES:Curs
ATTACH;FMTTYPE=image/jpeg:https://www.actecir.cat/wp-content/uploads/2023/12/DATA_CENTERS_2024_web_cast.jpg
ORGANIZER;CN="ACTECIR":MAILTO:actecir@actecir.cat
END:VEVENT
BEGIN:VEVENT
DTSTART;TZID=Europe/Madrid:20231220T160000
DTEND;TZID=Europe/Madrid:20231220T200000
DTSTAMP:20260422T170637
CREATED:20230712T170353Z
LAST-MODIFIED:20230712T170948Z
UID:10001387-1703088000-1703102400@www.actecir.cat
SUMMARY:3er Curs de Disseny i Càlcul d’Instal·lacions de Climatització i Ventilació
DESCRIPTION:
URL:https://www.actecir.cat/event/3er-curs-de-disseny-i-calcul-dinstal%c2%b7lacions-de-climatitzacio-i-ventilacio/2023-12-20/
CATEGORIES:Curs
ATTACH;FMTTYPE=image/jpeg:https://www.actecir.cat/wp-content/uploads/2023/07/CURS_clima_2023_WEB.jpg
ORGANIZER;CN="ACTECIR":MAILTO:actecir@actecir.cat
END:VEVENT
BEGIN:VEVENT
DTSTART;TZID=Europe/Madrid:20231128T080000
DTEND;TZID=Europe/Madrid:20231128T160000
DTSTAMP:20260422T170637
CREATED:20231113T102528Z
LAST-MODIFIED:20231113T102528Z
UID:10001401-1701158400-1701187200@www.actecir.cat
SUMMARY:Jornada: Noves Oportunitats de Negoci: Energía Solar Tèrmica
DESCRIPTION:Noves oportunitats de negoci: L’energia solar tèrmica en el nou sistema de certificats d’estalvi energètic CAE. \n\nUbicació: PALAU ROBERT\, SALA COTXERES \, Passeig de Gràcia\, 107\, 08008 Barcelona\nData: 28 novembre 2023\, 17 hores\nIniciativa de: ASIT i ACTECIR.\nAmb la col.laboració de:  ACI\, FEGICAT i  el Ministerio de Transición Ecológica y Reto Demográfico\nAmb el suport de:  ICAEN Institut Català d’Energia\n\nINSCRIPCIONS: APUNTAT AQUÍ      \nPrograma: CAE Jornada Barcelona\, 28 nov 2023
URL:https://www.actecir.cat/event/jornada-noves-oportunitats-de-negoci-energia-solar-termica/
LOCATION:PALAU ROBERT\, Pg. de Gràcia\, 107\, Barcelona\, Barcelona\, 08008\, España
CATEGORIES:Jornades
ATTACH;FMTTYPE=image/jpeg:https://www.actecir.cat/wp-content/uploads/2023/11/CAE-Jornada-Barcelona-28-nov-2023-1.jpg
ORGANIZER;CN="ACTECIR":MAILTO:actecir@actecir.cat
END:VEVENT
BEGIN:VEVENT
DTSTART;TZID=Europe/Madrid:20231121T000000
DTEND;TZID=Europe/Madrid:20231121T000000
DTSTAMP:20260422T170637
CREATED:20230130T095330Z
LAST-MODIFIED:20230830T111214Z
UID:10001400-1700524800-1700524800@www.actecir.cat
SUMMARY:4º Curs d'Instal.lacions Frigorífiques amb Amoníac com Refrigerant
DESCRIPTION:Totes les dates\n\n\n14/11/2023\n07/11/2023\n31/10/2023\n24/10/2023\n17/10/2023\n10/10/2023
URL:https://www.actecir.cat/event/4o-curs-dinstal-lacions-frigorifiques-amb-amoniac-com-refrigerant/2023-11-21/
LOCATION:ONLINE
CATEGORIES:Curs
ATTACH;FMTTYPE=image/jpeg:https://www.actecir.cat/wp-content/uploads/2023/06/ic_large_w900h600q100_curso-amoniaco-2023.jpg
ORGANIZER;CN="ACTECIR":MAILTO:actecir@actecir.cat
END:VEVENT
BEGIN:VEVENT
DTSTART;TZID=Europe/Madrid:20230719T170000
DTEND;TZID=Europe/Madrid:20230719T210000
DTSTAMP:20260422T170637
CREATED:20230613T082029Z
LAST-MODIFIED:20230619T084410Z
UID:10000796-1689786000-1689800400@www.actecir.cat
SUMMARY:NOVETAT: Curs Aerotèrmia ACTECIR
DESCRIPTION:Totes les dates\n\n\n19/07/2023 18:00 a 21:00 hores ( horari presencial de 17:00 a 20:00 hores)\n12/07/2023 18:00 a 21:00 hores ( horari presencial de 17:00 a 20:00 hores)\n05/07/2023 18:00 a 21:00 hores ( horari presencial de 17:00 a 20:00 hores)\n28/06/2023 18:00 a 21:00 hores ( horari presencial de 17:00 a 20:00 hores)\n21/06/2023  18:00 a 21:00 hores ( horari presencial de 17:00 a 20:00 hores)
URL:https://www.actecir.cat/event/novetat-curs-aerotermia-actecir/2023-07-19/
LOCATION:ACTECIR\, Plaça d'Espanya\, s/n 1er pis. Fira de Barcelona\, Barcelona\, Barcelona\, 08004\, Espanya
CATEGORIES:Curs
ATTACH;FMTTYPE=image/jpeg:https://www.actecir.cat/wp-content/uploads/2023/06/CURS_AEROTERMIA_2023-catalan.jpg
ORGANIZER;CN="ACTECIR":MAILTO:actecir@actecir.cat
END:VEVENT
BEGIN:VEVENT
DTSTART;TZID=Europe/Madrid:20230620T173000
DTEND;TZID=Europe/Madrid:20230620T193000
DTSTAMP:20260422T170637
CREATED:20230526T090855Z
LAST-MODIFIED:20230619T091138Z
UID:10000821-1687282200-1687289400@www.actecir.cat
SUMMARY:JORNADA DANFOSS-ACTECIR: Equilibrat Hidràulic i ús de Variadors de Velocitat en l'edificació
DESCRIPTION:Totes les dates\n\n\n20/06/2023 17:30 a 19:30
URL:https://www.actecir.cat/event/jornada-danfoss-actecir-equilibrat-hidraulic-i-us-de-variadors-de-velocitat-en-ledificacio/
LOCATION:Col·legi d’Enginyers Graduats i Enginyers Tècnics Industrials de Barcelona (ENGINYERS BCN)\, C/ Consella de Cent\, 365\, Barcelona\, Barcelona\, Espanya
CATEGORIES:Jornades
ATTACH;FMTTYPE=image/jpeg:https://www.actecir.cat/wp-content/uploads/2023/05/JORNADA_DANFOSS_WEB_CAT.jpg
ORGANIZER;CN="ACTECIR":MAILTO:actecir@actecir.cat
END:VEVENT
BEGIN:VEVENT
DTSTART;TZID=Europe/Madrid:20230518T183000
DTEND;TZID=Europe/Madrid:20230518T233000
DTSTAMP:20260422T170638
CREATED:20230130T102004Z
LAST-MODIFIED:20230619T092459Z
UID:10000825-1684434600-1684452600@www.actecir.cat
SUMMARY:SOPAR ACTECIR 2023 "EFICIÈNCIA ENERGÈTICA"
DESCRIPTION:Totes les dates\n\n\n18/05/2023 18:30
URL:https://www.actecir.cat/event/sopar-actecir-2023-eficiencia-energetica/
LOCATION:HOTEL VELA BARCELONA\, Barcelona\, Barcelona
CATEGORIES:Actes
ATTACH;FMTTYPE=image/jpeg:https://www.actecir.cat/wp-content/uploads/2023/06/IMATGE_SOPAR_2023_web.jpg
ORGANIZER;CN="ACTECIR":MAILTO:actecir@actecir.cat
END:VEVENT
BEGIN:VEVENT
DTSTART;TZID=Europe/Madrid:20230503T153000
DTEND;TZID=Europe/Madrid:20230503T193000
DTSTAMP:20260422T170638
CREATED:20230310T102801Z
LAST-MODIFIED:20230619T093109Z
UID:10000828-1683127800-1683142200@www.actecir.cat
SUMMARY:Curs Bàsic Climatització Data Centers
DESCRIPTION:Totes les dates\n\n\n03/05/2023 15:30 a 19:30\n26/04/2023 15:30 a 19:30
URL:https://www.actecir.cat/event/curs-basic-climatitzacio-data-centers/2023-05-03/
LOCATION:Seu ACTECIR Fira de Barcelona
CATEGORIES:Curs
ATTACH;FMTTYPE=image/jpeg:https://www.actecir.cat/wp-content/uploads/2023/04/DATA_CENTERS_2023_cat.jpg
ORGANIZER;CN="ACTECIR":MAILTO:actecir@actecir.cat
END:VEVENT
BEGIN:VEVENT
DTSTART;VALUE=DATE:20230426
DTEND;VALUE=DATE:20230427
DTSTAMP:20260422T170638
CREATED:20230626T070133Z
LAST-MODIFIED:20230626T070133Z
UID:10001126-1682467200-1682467200@www.actecir.cat
SUMMARY:5º Curs d'Instalacions Frigorífiques de CO2
DESCRIPTION:Totes les dates\n\n\n26/04/2023\n19/04/2023\n12/04/2023\n29/03/2023\n22/03/2023\n08/03/2023\n01/03/2023
URL:https://www.actecir.cat/event/5o-curs-dinstalacions-frigorifiques-de-co2/2023-04-26/
LOCATION:ONLINE
CATEGORIES:Curs
ATTACH;FMTTYPE=image/jpeg:https://www.actecir.cat/wp-content/uploads/2023/06/ic_large_w900h600q100_curs-co2-2023.jpg
ORGANIZER;CN="ACTECIR":MAILTO:actecir@actecir.cat
END:VEVENT
BEGIN:VEVENT
DTSTART;TZID=Europe/Madrid:20230321T180000
DTEND;TZID=Europe/Madrid:20230321T180000
DTSTAMP:20260422T170638
CREATED:20230310T122623Z
LAST-MODIFIED:20230619T113034Z
UID:10000851-1679421600-1679421600@www.actecir.cat
SUMMARY:Assemblea Socis ACTECIR 2023
DESCRIPTION:Totes les dates\n\n\n21/03/2023 18:00
URL:https://www.actecir.cat/event/assemblea-socis-actecir-2023/
LOCATION:HOTEL AIRE GRAN VIA\, Gran via de les corts catalanes\, 322\, Barcelona\, Barcelona\, 08004\, Espanya
CATEGORIES:Actes
ATTACH;FMTTYPE=image/jpeg:https://www.actecir.cat/wp-content/uploads/2023/04/assemblea.jpg
ORGANIZER;CN="ACTECIR":MAILTO:actecir@actecir.cat
END:VEVENT
BEGIN:VEVENT
DTSTART;VALUE=DATE:20221226
DTEND;VALUE=DATE:20230108
DTSTAMP:20260422T170638
CREATED:20221219T125006Z
LAST-MODIFIED:20230619T115612Z
UID:10000863-1672012800-1673135999@www.actecir.cat
SUMMARY:VACANCES ACTECIR 2022
DESCRIPTION:Des de 26/12/2022  a 07/01/2023
URL:https://www.actecir.cat/event/vacances-actecir-2022/
LOCATION:ACTECIR\, Plaça d'Espanya\, s/n 1er pis. Fira de Barcelona\, Barcelona\, Barcelona\, 08004\, Espanya
CATEGORIES:Actes
ATTACH;FMTTYPE=image/jpeg:https://www.actecir.cat/wp-content/uploads/2023/06/nadal_2022_cat.jpg
ORGANIZER;CN="ACTECIR":MAILTO:actecir@actecir.cat
END:VEVENT
BEGIN:VEVENT
DTSTART;VALUE=DATE:20221215
DTEND;VALUE=DATE:20221216
DTSTAMP:20260422T170638
CREATED:20230622T082520Z
LAST-MODIFIED:20230622T082649Z
UID:10000889-1671062400-1671148799@www.actecir.cat
SUMMARY:JORNADA: Nova Llei per Gasos Refrigerants fluorats i refrigerants alternatius.
DESCRIPTION:Totes les dates\n\n\n15/12/2022
URL:https://www.actecir.cat/event/jornada-nova-llei-per-gasos-refrigerants-fluorats-i-refrigerants-alternatius/
LOCATION:“Institut Escola de Treball Barcelona”\, Recinte Escola Industrial Carrer del Comte d’Urgell\, 187 Edifici 11\, Barcelona\, Barcelona\, 08036\, Espanya
CATEGORIES:Jornades
ATTACH;FMTTYPE=image/jpeg:https://www.actecir.cat/wp-content/uploads/2023/04/GASOS_refrigerants.jpg
ORGANIZER;CN="ACTECIR":MAILTO:actecir@actecir.cat
END:VEVENT
BEGIN:VEVENT
DTSTART;TZID=Europe/Madrid:20221214T080000
DTEND;TZID=Europe/Madrid:20221214T170000
DTSTAMP:20260422T170638
CREATED:20230622T083547Z
LAST-MODIFIED:20230622T083647Z
UID:10000891-1671004800-1671037200@www.actecir.cat
SUMMARY:Trobada SOCIS ACTECIR
DESCRIPTION:Totes les dates\n\n\n14/12/2022
URL:https://www.actecir.cat/event/trobada-socis-actecir/
LOCATION:Seu ACTECIR Fira de Barcelona
CATEGORIES:Actes
ATTACH;FMTTYPE=image/jpeg:https://www.actecir.cat/wp-content/uploads/2023/04/trobada_socis_cat.jpg
ORGANIZER;CN="ACTECIR":MAILTO:actecir@actecir.cat
END:VEVENT
END:VCALENDAR