BEGIN:VCALENDAR
VERSION:2.0
PRODID:-//Actecir - ECPv6.15.18//NONSGML v1.0//EN
CALSCALE:GREGORIAN
METHOD:PUBLISH
X-WR-CALNAME:Actecir
X-ORIGINAL-URL:https://www.actecir.cat
X-WR-CALDESC:Esdeveniments per Actecir
REFRESH-INTERVAL;VALUE=DURATION:PT1H
X-Robots-Tag:noindex
X-PUBLISHED-TTL:PT1H
BEGIN:VTIMEZONE
TZID:Europe/Madrid
BEGIN:DAYLIGHT
TZOFFSETFROM:+0100
TZOFFSETTO:+0200
TZNAME:CEST
DTSTART:20200329T010000
END:DAYLIGHT
BEGIN:STANDARD
TZOFFSETFROM:+0200
TZOFFSETTO:+0100
TZNAME:CET
DTSTART:20201025T010000
END:STANDARD
BEGIN:DAYLIGHT
TZOFFSETFROM:+0100
TZOFFSETTO:+0200
TZNAME:CEST
DTSTART:20210328T010000
END:DAYLIGHT
BEGIN:STANDARD
TZOFFSETFROM:+0200
TZOFFSETTO:+0100
TZNAME:CET
DTSTART:20211031T010000
END:STANDARD
BEGIN:DAYLIGHT
TZOFFSETFROM:+0100
TZOFFSETTO:+0200
TZNAME:CEST
DTSTART:20220327T010000
END:DAYLIGHT
BEGIN:STANDARD
TZOFFSETFROM:+0200
TZOFFSETTO:+0100
TZNAME:CET
DTSTART:20221030T010000
END:STANDARD
BEGIN:DAYLIGHT
TZOFFSETFROM:+0100
TZOFFSETTO:+0200
TZNAME:CEST
DTSTART:20230326T010000
END:DAYLIGHT
BEGIN:STANDARD
TZOFFSETFROM:+0200
TZOFFSETTO:+0100
TZNAME:CET
DTSTART:20231029T010000
END:STANDARD
END:VTIMEZONE
BEGIN:VEVENT
DTSTART;TZID=Europe/Madrid:20220301T170000
DTEND;TZID=Europe/Madrid:20220301T173000
DTSTAMP:20260424T140106
CREATED:20230626T091340Z
LAST-MODIFIED:20230626T091340Z
UID:10001184-1646154000-1646155800@www.actecir.cat
SUMMARY:Webinar TESTO: Utilització d'equips de medició en sistemes de Calefacció
DESCRIPTION:Totes les dates\n\n\n01/03/2022
URL:https://www.actecir.cat/event/webinar-testo-utilitzacio-dequips-de-medicio-en-sistemes-de-calefaccio/
LOCATION:ONLINE
CATEGORIES:Jornades
ATTACH;FMTTYPE=image/jpeg:https://www.actecir.cat/wp-content/uploads/2023/06/webinar_testo_01_03_web.jpg
ORGANIZER;CN="ACTECIR":MAILTO:actecir@actecir.cat
END:VEVENT
BEGIN:VEVENT
DTSTART;TZID=Europe/Madrid:20220119T150000
DTEND;TZID=Europe/Madrid:20220119T170000
DTSTAMP:20260424T140106
CREATED:20230626T095829Z
LAST-MODIFIED:20230626T100021Z
UID:10001211-1642604400-1642611600@www.actecir.cat
SUMMARY:Seminari Danfoss: Control de centrals transcrítques de CO2
DESCRIPTION:Totes les dates\n\n\n19/01/2022\n18/01/2022
URL:https://www.actecir.cat/event/seminari-danfoss-control-de-centrals-transcritques-de-co2/2022-01-19/
LOCATION:ONLINE
CATEGORIES:Seminari
ATTACH;FMTTYPE=image/jpeg:https://www.actecir.cat/wp-content/uploads/2023/06/ic_large_w900h600q100_seminarioweb-actecir-18-19-ene-22.jpg
ORGANIZER;CN="ACTECIR":MAILTO:actecir@actecir.cat
END:VEVENT
BEGIN:VEVENT
DTSTART;VALUE=DATE:20211224
DTEND;VALUE=DATE:20220101
DTSTAMP:20260424T140106
CREATED:20230626T100628Z
LAST-MODIFIED:20230626T100628Z
UID:10001213-1640304000-1640995199@www.actecir.cat
SUMMARY:VACANCES ACTECIR 2021
DESCRIPTION:Totes les dates\n\n\n31/12/2021\n30/12/2021\n29/12/2021\n28/12/2021\n27/12/2021\n24/12/2021
URL:https://www.actecir.cat/event/vacances-actecir-2021/
LOCATION:ACTECIR\, Plaça d'Espanya\, s/n 1er pis. Fira de Barcelona\, Barcelona\, Barcelona\, 08004\, Espanya
CATEGORIES:Actes
ATTACH;FMTTYPE=image/jpeg:https://www.actecir.cat/wp-content/uploads/2023/06/ic_large_w900h600q100_nadal-web.jpg
ORGANIZER;CN="ACTECIR":MAILTO:actecir@actecir.cat
END:VEVENT
BEGIN:VEVENT
DTSTART;TZID=Europe/Madrid:20211213T160000
DTEND;TZID=Europe/Madrid:20211213T200000
DTSTAMP:20260424T140106
CREATED:20230626T114132Z
LAST-MODIFIED:20230626T114132Z
UID:10001222-1639411200-1639425600@www.actecir.cat
SUMMARY:2º Curs d'Instal.lacions Frigorífiques amb Amoníac com a refrigerant
DESCRIPTION:Totes les dates\n\n\n13/12/2021\n29/11/2021\n22/11/2021\n15/11/2021\n08/11/2021\n02/11/2021
URL:https://www.actecir.cat/event/2o-curs-dinstal-lacions-frigorifiques-amb-amoniac-com-a-refrigerant/2021-12-13/
LOCATION:Mixta: Online / Presencial
CATEGORIES:Curs
ATTACH;FMTTYPE=image/png:https://www.actecir.cat/wp-content/uploads/2023/06/curso_amoniaco_web_cat.png
ORGANIZER;CN="ACTECIR":MAILTO:actecir@actecir.cat
END:VEVENT
BEGIN:VEVENT
DTSTART;TZID=Europe/Madrid:20211202T190000
DTEND;TZID=Europe/Madrid:20211202T210000
DTSTAMP:20260424T140106
CREATED:20230626T115349Z
LAST-MODIFIED:20230626T115349Z
UID:10001229-1638471600-1638478800@www.actecir.cat
SUMMARY:Trobada SOCIS ACTECIR
DESCRIPTION:Totes les dates\n\n\n02/12/2021
URL:https://www.actecir.cat/event/trobada-socis-actecir-2/
LOCATION:HOTEL AYRE GRAN VIA
CATEGORIES:Actes
ATTACH;FMTTYPE=image/jpeg:https://www.actecir.cat/wp-content/uploads/2023/06/ic_large_w900h600q100_trobada-socis-02.jpg
ORGANIZER;CN="ACTECIR":MAILTO:actecir@actecir.cat
END:VEVENT
BEGIN:VEVENT
DTSTART;TZID=Europe/Madrid:20211202T160000
DTEND;TZID=Europe/Madrid:20211202T200000
DTSTAMP:20260424T140106
CREATED:20230626T120215Z
LAST-MODIFIED:20230626T120215Z
UID:10001231-1638460800-1638475200@www.actecir.cat
SUMMARY:Consell i Junta ACTECIR
DESCRIPTION:Totes les dates\n\n\n02/12/2021 16:00
URL:https://www.actecir.cat/event/consell-i-junta-actecir/
LOCATION:ACTECIR\, Plaça d'Espanya\, s/n 1er pis. Fira de Barcelona\, Barcelona\, Barcelona\, 08004\, Espanya
CATEGORIES:Actes
ATTACH;FMTTYPE=image/png:https://www.actecir.cat/wp-content/uploads/2023/06/juntaconsell.png
ORGANIZER;CN="ACTECIR":MAILTO:actecir@actecir.cat
END:VEVENT
BEGIN:VEVENT
DTSTART;TZID=Europe/Madrid:20211130T160000
DTEND;TZID=Europe/Madrid:20211130T200000
DTSTAMP:20260424T140106
CREATED:20230626T134244Z
LAST-MODIFIED:20230626T134244Z
UID:10001239-1638288000-1638302400@www.actecir.cat
SUMMARY:1r Curs de Disseny i Càlcul d’Instal·lacions de Climatització i Ventilació
DESCRIPTION:Totes les dates\n\n\n30/11/2021\n25/11/2021\n23/11/2021\n11/11/2021\n28/10/2021\n26/10/2021\n21/10/2021
URL:https://www.actecir.cat/event/1r-curs-de-disseny-i-calcul-dinstallacions-de-climatitzacio-i-ventilacio/2021-11-30/
LOCATION:Mixta: Online / Presencial
CATEGORIES:Curs
ATTACH;FMTTYPE=image/png:https://www.actecir.cat/wp-content/uploads/2023/04/CURS_clima_INICI.png
ORGANIZER;CN="ACTECIR":MAILTO:actecir@actecir.cat
END:VEVENT
BEGIN:VEVENT
DTSTART;VALUE=DATE:20210809
DTEND;VALUE=DATE:20210823
DTSTAMP:20260424T140106
CREATED:20230626T143243Z
LAST-MODIFIED:20230626T143243Z
UID:10001267-1628467200-1629676799@www.actecir.cat
SUMMARY:VACANCES ACTECIR 2021
DESCRIPTION:Totes les dates\n\n\nDes de 09/08/2021 a 22/08/2021
URL:https://www.actecir.cat/event/vacances-actecir-2021-2/
LOCATION:ACTECIR\, Plaça d'Espanya\, s/n 1er pis. Fira de Barcelona\, Barcelona\, Barcelona\, 08004\, Espanya
CATEGORIES:Actes
ATTACH;FMTTYPE=image/jpeg:https://www.actecir.cat/wp-content/uploads/2023/06/ic_large_w900h600q100_vacances.jpg
ORGANIZER;CN="ACTECIR":MAILTO:actecir@actecir.cat
END:VEVENT
BEGIN:VEVENT
DTSTART;TZID=Europe/Madrid:20210628T160000
DTEND;TZID=Europe/Madrid:20210628T200000
DTSTAMP:20260424T140106
CREATED:20230626T150123Z
LAST-MODIFIED:20230626T150123Z
UID:10001277-1624896000-1624910400@www.actecir.cat
SUMMARY:Curs: R32 en Instal·lacions de clima
DESCRIPTION:Totes les dates\n\n\n28/06/2021
URL:https://www.actecir.cat/event/curs-r32-en-installacions-de-clima/
LOCATION:ONLINE
CATEGORIES:Curs
ATTACH;FMTTYPE=image/jpeg:https://www.actecir.cat/wp-content/uploads/2023/06/fondo_web_r32_catalan.jpg
ORGANIZER;CN="ACTECIR":MAILTO:actecir@actecir.cat
END:VEVENT
BEGIN:VEVENT
DTSTART;TZID=Europe/Madrid:20210617T160000
DTEND;TZID=Europe/Madrid:20210617T183000
DTSTAMP:20260424T140106
CREATED:20230626T151328Z
LAST-MODIFIED:20230626T151328Z
UID:10001285-1623945600-1623954600@www.actecir.cat
SUMMARY:Seminari Actecir: Modificacions del nou RITE i CTE i les seves repercussions a l'edificació
DESCRIPTION:Totes les dates\n\n\n17/06/2021
URL:https://www.actecir.cat/event/seminari-actecir-modificacions-del-nou-rite-i-cte-i-les-seves-repercussions-a-ledificacio/
LOCATION:ONLINE
CATEGORIES:Jornades
ATTACH;FMTTYPE=image/jpeg:https://www.actecir.cat/wp-content/uploads/2023/04/rite_web_3.jpg
ORGANIZER;CN="ACTECIR":MAILTO:actecir@actecir.cat
END:VEVENT
BEGIN:VEVENT
DTSTART;TZID=Europe/Madrid:20210614T170000
DTEND;TZID=Europe/Madrid:20210614T210000
DTSTAMP:20260424T140106
CREATED:20230626T152307Z
LAST-MODIFIED:20230626T152307Z
UID:10001293-1623690000-1623704400@www.actecir.cat
SUMMARY:5º Curs d'Instal.lacions Frigorífiques amb Refrigerant inflamables
DESCRIPTION:Totes les dates\n\n\n14/06/2021\n07/06/2021\n31/05/2021\n24/05/2021\n17/05/2021
URL:https://www.actecir.cat/event/5o-curs-dinstal-lacions-frigorifiques-amb-refrigerant-inflamables/2021-06-14/
LOCATION:ONLINE
CATEGORIES:Curs
ATTACH;FMTTYPE=image/png:https://www.actecir.cat/wp-content/uploads/2023/06/imagen_curso_inflamables_catala_web.png
ORGANIZER;CN="ACTECIR":MAILTO:actecir@actecir.cat
END:VEVENT
BEGIN:VEVENT
DTSTART;TZID=Europe/Madrid:20210520T170000
DTEND;TZID=Europe/Madrid:20210520T180000
DTSTAMP:20260424T140106
CREATED:20230626T154458Z
LAST-MODIFIED:20230626T154458Z
UID:10001309-1621530000-1621533600@www.actecir.cat
SUMMARY:Webinars: Danfoss - Actecir
DESCRIPTION:Totes les dates\n\n\n20/05/2021
URL:https://www.actecir.cat/event/webinars-danfoss-actecir/
LOCATION:ONLINE
CATEGORIES:Jornades
ATTACH;FMTTYPE=image/jpeg:https://www.actecir.cat/wp-content/uploads/2023/04/danfoss_20_mayo.jpg
END:VEVENT
END:VCALENDAR