BEGIN:VCALENDAR
VERSION:2.0
PRODID:-//Actecir - ECPv6.15.18//NONSGML v1.0//EN
CALSCALE:GREGORIAN
METHOD:PUBLISH
X-ORIGINAL-URL:https://www.actecir.cat
X-WR-CALDESC:Esdeveniments per Actecir
REFRESH-INTERVAL;VALUE=DURATION:PT1H
X-Robots-Tag:noindex
X-PUBLISHED-TTL:PT1H
BEGIN:VTIMEZONE
TZID:Europe/Madrid
BEGIN:DAYLIGHT
TZOFFSETFROM:+0100
TZOFFSETTO:+0200
TZNAME:CEST
DTSTART:20200329T010000
END:DAYLIGHT
BEGIN:STANDARD
TZOFFSETFROM:+0200
TZOFFSETTO:+0100
TZNAME:CET
DTSTART:20201025T010000
END:STANDARD
BEGIN:DAYLIGHT
TZOFFSETFROM:+0100
TZOFFSETTO:+0200
TZNAME:CEST
DTSTART:20210328T010000
END:DAYLIGHT
BEGIN:STANDARD
TZOFFSETFROM:+0200
TZOFFSETTO:+0100
TZNAME:CET
DTSTART:20211031T010000
END:STANDARD
BEGIN:DAYLIGHT
TZOFFSETFROM:+0100
TZOFFSETTO:+0200
TZNAME:CEST
DTSTART:20220327T010000
END:DAYLIGHT
BEGIN:STANDARD
TZOFFSETFROM:+0200
TZOFFSETTO:+0100
TZNAME:CET
DTSTART:20221030T010000
END:STANDARD
BEGIN:DAYLIGHT
TZOFFSETFROM:+0100
TZOFFSETTO:+0200
TZNAME:CEST
DTSTART:20230326T010000
END:DAYLIGHT
BEGIN:STANDARD
TZOFFSETFROM:+0200
TZOFFSETTO:+0100
TZNAME:CET
DTSTART:20231029T010000
END:STANDARD
BEGIN:DAYLIGHT
TZOFFSETFROM:+0100
TZOFFSETTO:+0200
TZNAME:CEST
DTSTART:20240331T010000
END:DAYLIGHT
BEGIN:STANDARD
TZOFFSETFROM:+0200
TZOFFSETTO:+0100
TZNAME:CET
DTSTART:20241027T010000
END:STANDARD
BEGIN:DAYLIGHT
TZOFFSETFROM:+0100
TZOFFSETTO:+0200
TZNAME:CEST
DTSTART:20250330T010000
END:DAYLIGHT
BEGIN:STANDARD
TZOFFSETFROM:+0200
TZOFFSETTO:+0100
TZNAME:CET
DTSTART:20251026T010000
END:STANDARD
END:VTIMEZONE
BEGIN:VEVENT
DTSTART;VALUE=DATE:20240815
DTEND;VALUE=DATE:20240902
DTSTAMP:20260424T173232
CREATED:20240807T115409Z
LAST-MODIFIED:20240807T120002Z
UID:10001473-1723680000-1725235199@www.actecir.cat
SUMMARY:Vacances ACTECIR 2024
DESCRIPTION:
URL:https://www.actecir.cat/event/vacances-actecir-2024/
LOCATION:ACTECIR\, Plaça d'Espanya\, s/n 1er pis. Fira de Barcelona\, Barcelona\, Barcelona\, 08004\, Espanya
CATEGORIES:Vacances
ATTACH;FMTTYPE=image/jpeg:https://www.actecir.cat/wp-content/uploads/2024/08/estiu2024_destaquem_600_400.jpg
END:VEVENT
BEGIN:VEVENT
DTSTART;TZID=Europe/Madrid:20230719T170000
DTEND;TZID=Europe/Madrid:20230719T210000
DTSTAMP:20260424T173232
CREATED:20230613T082029Z
LAST-MODIFIED:20230619T084410Z
UID:10000796-1689786000-1689800400@www.actecir.cat
SUMMARY:NOVETAT: Curs Aerotèrmia ACTECIR
DESCRIPTION:Totes les dates\n\n\n19/07/2023 18:00 a 21:00 hores ( horari presencial de 17:00 a 20:00 hores)\n12/07/2023 18:00 a 21:00 hores ( horari presencial de 17:00 a 20:00 hores)\n05/07/2023 18:00 a 21:00 hores ( horari presencial de 17:00 a 20:00 hores)\n28/06/2023 18:00 a 21:00 hores ( horari presencial de 17:00 a 20:00 hores)\n21/06/2023  18:00 a 21:00 hores ( horari presencial de 17:00 a 20:00 hores)
URL:https://www.actecir.cat/event/novetat-curs-aerotermia-actecir/2023-07-19/
LOCATION:ACTECIR\, Plaça d'Espanya\, s/n 1er pis. Fira de Barcelona\, Barcelona\, Barcelona\, 08004\, Espanya
CATEGORIES:Curs
ATTACH;FMTTYPE=image/jpeg:https://www.actecir.cat/wp-content/uploads/2023/06/CURS_AEROTERMIA_2023-catalan.jpg
ORGANIZER;CN="ACTECIR":MAILTO:actecir@actecir.cat
END:VEVENT
BEGIN:VEVENT
DTSTART;VALUE=DATE:20230406
DTEND;VALUE=DATE:20230411
DTSTAMP:20260424T173232
CREATED:20230313T114120Z
LAST-MODIFIED:20230619T104249Z
UID:10000847-1680739200-1681171199@www.actecir.cat
SUMMARY:Vacances Setmana Santa ACTECIR 2023
DESCRIPTION:Totes les dates\n\n\nDes de 06/04/2023 09:00 a 10/04/2023 23:30
URL:https://www.actecir.cat/event/vacances-setmana-santa-actecir-2023/
LOCATION:ACTECIR\, Plaça d'Espanya\, s/n 1er pis. Fira de Barcelona\, Barcelona\, Barcelona\, 08004\, Espanya
CATEGORIES:Actes
ATTACH;FMTTYPE=image/jpeg:https://www.actecir.cat/wp-content/uploads/2023/04/vacaciones-actecir.jpg
END:VEVENT
BEGIN:VEVENT
DTSTART;VALUE=DATE:20221226
DTEND;VALUE=DATE:20230108
DTSTAMP:20260424T173232
CREATED:20221219T125006Z
LAST-MODIFIED:20230619T115612Z
UID:10000863-1672012800-1673135999@www.actecir.cat
SUMMARY:VACANCES ACTECIR 2022
DESCRIPTION:Des de 26/12/2022  a 07/01/2023
URL:https://www.actecir.cat/event/vacances-actecir-2022/
LOCATION:ACTECIR\, Plaça d'Espanya\, s/n 1er pis. Fira de Barcelona\, Barcelona\, Barcelona\, 08004\, Espanya
CATEGORIES:Actes
ATTACH;FMTTYPE=image/jpeg:https://www.actecir.cat/wp-content/uploads/2023/06/nadal_2022_cat.jpg
ORGANIZER;CN="ACTECIR":MAILTO:actecir@actecir.cat
END:VEVENT
BEGIN:VEVENT
DTSTART;VALUE=DATE:20220815
DTEND;VALUE=DATE:20220830
DTSTAMP:20260424T173232
CREATED:20230626T072959Z
LAST-MODIFIED:20230626T072959Z
UID:10001136-1660521600-1661817599@www.actecir.cat
SUMMARY:VACANCES ACTECIR 2022 ESTIU
DESCRIPTION:Totes les dates\n\n\nDes de 15/08/2022  a 29/08/2022
URL:https://www.actecir.cat/event/vacances-actecir-2022-estiu/
LOCATION:ACTECIR\, Plaça d'Espanya\, s/n 1er pis. Fira de Barcelona\, Barcelona\, Barcelona\, 08004\, Espanya
CATEGORIES:Actes
ATTACH;FMTTYPE=image/jpeg:https://www.actecir.cat/wp-content/uploads/2023/06/ic_large_w900h600q100_vacances-2022.jpg
ORGANIZER;CN="ACTECIR":MAILTO:actecir@actecir.cat
END:VEVENT
BEGIN:VEVENT
DTSTART;VALUE=DATE:20211224
DTEND;VALUE=DATE:20220101
DTSTAMP:20260424T173232
CREATED:20230626T100628Z
LAST-MODIFIED:20230626T100628Z
UID:10001213-1640304000-1640995199@www.actecir.cat
SUMMARY:VACANCES ACTECIR 2021
DESCRIPTION:Totes les dates\n\n\n31/12/2021\n30/12/2021\n29/12/2021\n28/12/2021\n27/12/2021\n24/12/2021
URL:https://www.actecir.cat/event/vacances-actecir-2021/
LOCATION:ACTECIR\, Plaça d'Espanya\, s/n 1er pis. Fira de Barcelona\, Barcelona\, Barcelona\, 08004\, Espanya
CATEGORIES:Actes
ATTACH;FMTTYPE=image/jpeg:https://www.actecir.cat/wp-content/uploads/2023/06/ic_large_w900h600q100_nadal-web.jpg
ORGANIZER;CN="ACTECIR":MAILTO:actecir@actecir.cat
END:VEVENT
BEGIN:VEVENT
DTSTART;TZID=Europe/Madrid:20211202T160000
DTEND;TZID=Europe/Madrid:20211202T200000
DTSTAMP:20260424T173232
CREATED:20230626T120215Z
LAST-MODIFIED:20230626T120215Z
UID:10001231-1638460800-1638475200@www.actecir.cat
SUMMARY:Consell i Junta ACTECIR
DESCRIPTION:Totes les dates\n\n\n02/12/2021 16:00
URL:https://www.actecir.cat/event/consell-i-junta-actecir/
LOCATION:ACTECIR\, Plaça d'Espanya\, s/n 1er pis. Fira de Barcelona\, Barcelona\, Barcelona\, 08004\, Espanya
CATEGORIES:Actes
ATTACH;FMTTYPE=image/png:https://www.actecir.cat/wp-content/uploads/2023/06/juntaconsell.png
ORGANIZER;CN="ACTECIR":MAILTO:actecir@actecir.cat
END:VEVENT
BEGIN:VEVENT
DTSTART;VALUE=DATE:20210809
DTEND;VALUE=DATE:20210823
DTSTAMP:20260424T173233
CREATED:20230626T143243Z
LAST-MODIFIED:20230626T143243Z
UID:10001267-1628467200-1629676799@www.actecir.cat
SUMMARY:VACANCES ACTECIR 2021
DESCRIPTION:Totes les dates\n\n\nDes de 09/08/2021 a 22/08/2021
URL:https://www.actecir.cat/event/vacances-actecir-2021-2/
LOCATION:ACTECIR\, Plaça d'Espanya\, s/n 1er pis. Fira de Barcelona\, Barcelona\, Barcelona\, 08004\, Espanya
CATEGORIES:Actes
ATTACH;FMTTYPE=image/jpeg:https://www.actecir.cat/wp-content/uploads/2023/06/ic_large_w900h600q100_vacances.jpg
ORGANIZER;CN="ACTECIR":MAILTO:actecir@actecir.cat
END:VEVENT
END:VCALENDAR