BEGIN:VCALENDAR
VERSION:2.0
PRODID:-//Actecir - ECPv6.15.18//NONSGML v1.0//EN
CALSCALE:GREGORIAN
METHOD:PUBLISH
X-ORIGINAL-URL:https://www.actecir.cat
X-WR-CALDESC:Esdeveniments per Actecir
REFRESH-INTERVAL;VALUE=DURATION:PT1H
X-Robots-Tag:noindex
X-PUBLISHED-TTL:PT1H
BEGIN:VTIMEZONE
TZID:Europe/Madrid
BEGIN:DAYLIGHT
TZOFFSETFROM:+0100
TZOFFSETTO:+0200
TZNAME:CEST
DTSTART:20210328T010000
END:DAYLIGHT
BEGIN:STANDARD
TZOFFSETFROM:+0200
TZOFFSETTO:+0100
TZNAME:CET
DTSTART:20211031T010000
END:STANDARD
BEGIN:DAYLIGHT
TZOFFSETFROM:+0100
TZOFFSETTO:+0200
TZNAME:CEST
DTSTART:20220327T010000
END:DAYLIGHT
BEGIN:STANDARD
TZOFFSETFROM:+0200
TZOFFSETTO:+0100
TZNAME:CET
DTSTART:20221030T010000
END:STANDARD
BEGIN:DAYLIGHT
TZOFFSETFROM:+0100
TZOFFSETTO:+0200
TZNAME:CEST
DTSTART:20230326T010000
END:DAYLIGHT
BEGIN:STANDARD
TZOFFSETFROM:+0200
TZOFFSETTO:+0100
TZNAME:CET
DTSTART:20231029T010000
END:STANDARD
BEGIN:DAYLIGHT
TZOFFSETFROM:+0100
TZOFFSETTO:+0200
TZNAME:CEST
DTSTART:20240331T010000
END:DAYLIGHT
BEGIN:STANDARD
TZOFFSETFROM:+0200
TZOFFSETTO:+0100
TZNAME:CET
DTSTART:20241027T010000
END:STANDARD
END:VTIMEZONE
BEGIN:VEVENT
DTSTART;TZID=Europe/Madrid:20231018T100000
DTEND;TZID=Europe/Madrid:20231019T190000
DTSTAMP:20260425T015159
CREATED:20230127T090527Z
LAST-MODIFIED:20230707T075938Z
UID:10000785-1697623200-1697742000@www.actecir.cat
SUMMARY:FIRA EFINTEC 2023
DESCRIPTION:Totes les dates\n\n\nDes de 18/10/2023 09:32 a 19/10/2023 10:00 a 19:00
URL:https://www.actecir.cat/event/fira-efintec-2023/
LOCATION:Fira Barcelona Montjuïc
CATEGORIES:Fires
ATTACH;FMTTYPE=image/jpeg:https://www.actecir.cat/wp-content/uploads/2023/01/Banner_1920x450-px_catalan-1.jpg
ORGANIZER;CN="EFINTEC":MAILTO:info@efintec.es
END:VEVENT
BEGIN:VEVENT
DTSTART;VALUE=DATE:20221021
DTEND;VALUE=DATE:20221022
DTSTAMP:20260425T015159
CREATED:20230622T092335Z
LAST-MODIFIED:20230622T092335Z
UID:10000911-1666310400-1666310400@www.actecir.cat
SUMMARY:Fira EFINTEC 2022
DESCRIPTION:Totes les dates\n\n\n21/10/2022\n20/10/2022
URL:https://www.actecir.cat/event/fira-efintec-2022/2022-10-21/
LOCATION:Fira Barcelona Montjuïc
CATEGORIES:Fires
ATTACH;FMTTYPE=image/jpeg:https://www.actecir.cat/wp-content/uploads/2023/05/banner-600x400_catalan.jpg
ORGANIZER;CN="EFINTEC":MAILTO:info@efintec.es
END:VEVENT
BEGIN:VEVENT
DTSTART;VALUE=DATE:20220629
DTEND;VALUE=DATE:20220701
DTSTAMP:20260425T015159
CREATED:20230626T073628Z
LAST-MODIFIED:20230626T073628Z
UID:10001138-1656460800-1656633599@www.actecir.cat
SUMMARY:Congrés Anual de Liquid Gas Europe a Barcelona
DESCRIPTION:Totes les dates\n\n\n30/06/2022\n29/06/2022
URL:https://www.actecir.cat/event/congres-anual-de-liquid-gas-europe-a-barcelona/
LOCATION:Fira Barcelona Montjuïc
CATEGORIES:Fires
ATTACH;FMTTYPE=image/jpeg:https://www.actecir.cat/wp-content/uploads/2023/04/EUROPEAN_LIQUID_GAS_CONRES_web.jpg
END:VEVENT
END:VCALENDAR