BEGIN:VCALENDAR
VERSION:2.0
PRODID:-//Actecir - ECPv6.15.18//NONSGML v1.0//EN
CALSCALE:GREGORIAN
METHOD:PUBLISH
X-ORIGINAL-URL:https://www.actecir.cat
X-WR-CALDESC:Esdeveniments per Actecir
REFRESH-INTERVAL;VALUE=DURATION:PT1H
X-Robots-Tag:noindex
X-PUBLISHED-TTL:PT1H
BEGIN:VTIMEZONE
TZID:Europe/Madrid
BEGIN:DAYLIGHT
TZOFFSETFROM:+0100
TZOFFSETTO:+0200
TZNAME:CEST
DTSTART:20200329T010000
END:DAYLIGHT
BEGIN:STANDARD
TZOFFSETFROM:+0200
TZOFFSETTO:+0100
TZNAME:CET
DTSTART:20201025T010000
END:STANDARD
BEGIN:DAYLIGHT
TZOFFSETFROM:+0100
TZOFFSETTO:+0200
TZNAME:CEST
DTSTART:20210328T010000
END:DAYLIGHT
BEGIN:STANDARD
TZOFFSETFROM:+0200
TZOFFSETTO:+0100
TZNAME:CET
DTSTART:20211031T010000
END:STANDARD
BEGIN:DAYLIGHT
TZOFFSETFROM:+0100
TZOFFSETTO:+0200
TZNAME:CEST
DTSTART:20220327T010000
END:DAYLIGHT
BEGIN:STANDARD
TZOFFSETFROM:+0200
TZOFFSETTO:+0100
TZNAME:CET
DTSTART:20221030T010000
END:STANDARD
BEGIN:DAYLIGHT
TZOFFSETFROM:+0100
TZOFFSETTO:+0200
TZNAME:CEST
DTSTART:20230326T010000
END:DAYLIGHT
BEGIN:STANDARD
TZOFFSETFROM:+0200
TZOFFSETTO:+0100
TZNAME:CET
DTSTART:20231029T010000
END:STANDARD
BEGIN:DAYLIGHT
TZOFFSETFROM:+0100
TZOFFSETTO:+0200
TZNAME:CEST
DTSTART:20240331T010000
END:DAYLIGHT
BEGIN:STANDARD
TZOFFSETFROM:+0200
TZOFFSETTO:+0100
TZNAME:CET
DTSTART:20241027T010000
END:STANDARD
BEGIN:DAYLIGHT
TZOFFSETFROM:+0100
TZOFFSETTO:+0200
TZNAME:CEST
DTSTART:20250330T010000
END:DAYLIGHT
BEGIN:STANDARD
TZOFFSETFROM:+0200
TZOFFSETTO:+0100
TZNAME:CET
DTSTART:20251026T010000
END:STANDARD
END:VTIMEZONE
BEGIN:VEVENT
DTSTART;TZID=Europe/Madrid:20240318T080000
DTEND;TZID=Europe/Madrid:20240321T170000
DTSTAMP:20260424T204404
CREATED:20240307T094908Z
LAST-MODIFIED:20240307T095113Z
UID:10001427-1710748800-1711040400@www.actecir.cat
SUMMARY:REBUILD 2024
DESCRIPTION:
URL:https://www.actecir.cat/event/rebuild-2024/
LOCATION:IFEMA\, Avda. del Partenón\, 5\, Madrid\, 28042
CATEGORIES:Fires
ATTACH;FMTTYPE=image/jpeg:https://www.actecir.cat/wp-content/uploads/2024/03/banner.jpg
END:VEVENT
BEGIN:VEVENT
DTSTART;TZID=Europe/Madrid:20231114T093000
DTEND;TZID=Europe/Madrid:20231117T233000
DTSTAMP:20260424T204404
CREATED:20230619T073819Z
LAST-MODIFIED:20230619T084508Z
UID:10000758-1699954200-1700263800@www.actecir.cat
SUMMARY:Fira Climatització i Refrigeració 2023
DESCRIPTION:Totes les dates\n\n\nDes de 14/11/2023 09:38 a 17/11/2023 00:00
URL:https://www.actecir.cat/event/fira-climatitzacio-i-refrigeracio-2023/
LOCATION:IFEMA\, Avda. del Partenón\, 5\, Madrid\, 28042
CATEGORIES:Fires
ATTACH;FMTTYPE=image/jpeg:https://www.actecir.cat/wp-content/uploads/2023/06/CR2023.jpg
ORGANIZER;CN="IFEMA":MAILTO:atencionalcliente@ifema.es
END:VEVENT
BEGIN:VEVENT
DTSTART;VALUE=DATE:20230328
DTEND;VALUE=DATE:20230331
DTSTAMP:20260424T204404
CREATED:20230127T114457Z
LAST-MODIFIED:20230619T104632Z
UID:10000849-1679961600-1680220799@www.actecir.cat
SUMMARY:FIRA REBUILD 2023
DESCRIPTION:Totes les dates\n\n\nDes de 28/03/2023 a 30/03/2023
URL:https://www.actecir.cat/event/fira-rebuild-2023/
LOCATION:IFEMA\, Avda. del Partenón\, 5\, Madrid\, 28042
CATEGORIES:Fires
ATTACH;FMTTYPE=image/png:https://www.actecir.cat/wp-content/uploads/2023/06/rebuild-2023-visual.png
END:VEVENT
BEGIN:VEVENT
DTSTART;VALUE=DATE:20230223
DTEND;VALUE=DATE:20230224
DTSTAMP:20260424T204404
CREATED:20230126T123232Z
LAST-MODIFIED:20230619T113506Z
UID:10000853-1677110400-1677196799@www.actecir.cat
SUMMARY:Fira GENERA
DESCRIPTION:Totes les dates\n\n\n23/02/2023 10:35\n22/02/2023 10:34\n21/02/2023 10:34
URL:https://www.actecir.cat/event/fira-genera/
LOCATION:IFEMA\, Avda. del Partenón\, 5\, Madrid\, 28042
CATEGORIES:Fires
ATTACH;FMTTYPE=image/png:https://www.actecir.cat/wp-content/uploads/2023/06/genera.png
END:VEVENT
BEGIN:VEVENT
DTSTART;VALUE=DATE:20220614
DTEND;VALUE=DATE:20220617
DTSTAMP:20260424T204404
CREATED:20230622T101126Z
LAST-MODIFIED:20230622T101335Z
UID:10000939-1655164800-1655423999@www.actecir.cat
SUMMARY:GENERA: Fira Internacional d'Energia i Medi Ambient
DESCRIPTION:Totes les dates\n\n\nDes de 14/06/2022  a 16/06/2022
URL:https://www.actecir.cat/event/genera-fira-internacional-denergia-i-medi-ambient/
LOCATION:IFEMA\, Avda. del Partenón\, 5\, Madrid\, 28042
CATEGORIES:Fires
ATTACH;FMTTYPE=image/jpeg:https://www.actecir.cat/wp-content/uploads/2023/04/genera_web.jpg
ORGANIZER;CN="IFEMA":MAILTO:atencionalcliente@ifema.es
END:VEVENT
BEGIN:VEVENT
DTSTART;VALUE=DATE:20220426
DTEND;VALUE=DATE:20220429
DTSTAMP:20260424T204404
CREATED:20230626T083854Z
LAST-MODIFIED:20230626T083854Z
UID:10001172-1650931200-1651190399@www.actecir.cat
SUMMARY:Fira Rebuild 2022
DESCRIPTION:Totes les dates\n\n\nDes de 26/04/202 a 28/04/2022
URL:https://www.actecir.cat/event/fira-rebuild-2022/
LOCATION:IFEMA\, Avda. del Partenón\, 5\, Madrid\, 28042
CATEGORIES:Fires
ATTACH;FMTTYPE=image/jpeg:https://www.actecir.cat/wp-content/uploads/2023/06/rebuild-2022-visual_web.jpg
END:VEVENT
BEGIN:VEVENT
DTSTART;VALUE=DATE:20211116
DTEND;VALUE=DATE:20211120
DTSTAMP:20260424T204404
CREATED:20230626T140413Z
LAST-MODIFIED:20230626T140413Z
UID:10001253-1637020800-1637366399@www.actecir.cat
SUMMARY:C&R Saló Internacional de la Refrigeració i Climatització
DESCRIPTION:Totes les dates\n\n\nDes de 16/11/2021 a 19/11/2021
URL:https://www.actecir.cat/event/cr-salo-internacional-de-la-refrigeracio-i-climatitzacio/
LOCATION:IFEMA\, Avda. del Partenón\, 5\, Madrid\, 28042
CATEGORIES:Fires
ATTACH;FMTTYPE=image/jpeg:https://www.actecir.cat/wp-content/uploads/2023/05/CR-cambio-de-fecha_web.jpg
END:VEVENT
BEGIN:VEVENT
DTSTART;VALUE=DATE:20210921
DTEND;VALUE=DATE:20210924
DTSTAMP:20260424T204404
CREATED:20230626T142548Z
LAST-MODIFIED:20230626T142548Z
UID:10001263-1632182400-1632441599@www.actecir.cat
SUMMARY:Fira Rebuild 2021
DESCRIPTION:Totes les dates\n\n\nDes de 21/09/2021 00:00 a 23/09/2021
URL:https://www.actecir.cat/event/fira-rebuild-2021/
LOCATION:IFEMA\, Avda. del Partenón\, 5\, Madrid\, 28042
CATEGORIES:Fires
ATTACH;FMTTYPE=image/jpeg:https://www.actecir.cat/wp-content/uploads/2023/05/rebuild_1500x500.jpg
END:VEVENT
END:VCALENDAR