BEGIN:VCALENDAR
VERSION:2.0
PRODID:-//Actecir - ECPv6.15.18//NONSGML v1.0//EN
CALSCALE:GREGORIAN
METHOD:PUBLISH
X-WR-CALNAME:Actecir
X-ORIGINAL-URL:https://www.actecir.cat
X-WR-CALDESC:Esdeveniments per Actecir
REFRESH-INTERVAL;VALUE=DURATION:PT1H
X-Robots-Tag:noindex
X-PUBLISHED-TTL:PT1H
BEGIN:VTIMEZONE
TZID:Europe/Madrid
BEGIN:DAYLIGHT
TZOFFSETFROM:+0100
TZOFFSETTO:+0200
TZNAME:CEST
DTSTART:20200329T010000
END:DAYLIGHT
BEGIN:STANDARD
TZOFFSETFROM:+0200
TZOFFSETTO:+0100
TZNAME:CET
DTSTART:20201025T010000
END:STANDARD
BEGIN:DAYLIGHT
TZOFFSETFROM:+0100
TZOFFSETTO:+0200
TZNAME:CEST
DTSTART:20210328T010000
END:DAYLIGHT
BEGIN:STANDARD
TZOFFSETFROM:+0200
TZOFFSETTO:+0100
TZNAME:CET
DTSTART:20211031T010000
END:STANDARD
BEGIN:DAYLIGHT
TZOFFSETFROM:+0100
TZOFFSETTO:+0200
TZNAME:CEST
DTSTART:20220327T010000
END:DAYLIGHT
BEGIN:STANDARD
TZOFFSETFROM:+0200
TZOFFSETTO:+0100
TZNAME:CET
DTSTART:20221030T010000
END:STANDARD
BEGIN:DAYLIGHT
TZOFFSETFROM:+0100
TZOFFSETTO:+0200
TZNAME:CEST
DTSTART:20230326T010000
END:DAYLIGHT
BEGIN:STANDARD
TZOFFSETFROM:+0200
TZOFFSETTO:+0100
TZNAME:CET
DTSTART:20231029T010000
END:STANDARD
BEGIN:DAYLIGHT
TZOFFSETFROM:+0100
TZOFFSETTO:+0200
TZNAME:CEST
DTSTART:20240331T010000
END:DAYLIGHT
BEGIN:STANDARD
TZOFFSETFROM:+0200
TZOFFSETTO:+0100
TZNAME:CET
DTSTART:20241027T010000
END:STANDARD
BEGIN:DAYLIGHT
TZOFFSETFROM:+0100
TZOFFSETTO:+0200
TZNAME:CEST
DTSTART:20250330T010000
END:DAYLIGHT
BEGIN:STANDARD
TZOFFSETFROM:+0200
TZOFFSETTO:+0100
TZNAME:CET
DTSTART:20251026T010000
END:STANDARD
END:VTIMEZONE
BEGIN:VEVENT
DTSTART;TZID=Europe/Madrid:20241218T160000
DTEND;TZID=Europe/Madrid:20241218T200000
DTSTAMP:20260425T005558
CREATED:20240807T115057Z
LAST-MODIFIED:20240807T115058Z
UID:10001472-1734537600-1734552000@www.actecir.cat
SUMMARY:4t Curs de Disseny i Càlcul d’Instal·lacions de Climatització i Ventilació
DESCRIPTION:
URL:https://www.actecir.cat/event/4t-curs-de-disseny-i-calcul-dinstallacions-de-climatitzacio-i-ventilacio/2024-12-18/
LOCATION:Mixta: Online / Presencial
CATEGORIES:Curs
ATTACH;FMTTYPE=image/jpeg:https://www.actecir.cat/wp-content/uploads/2024/07/Portada_web_cat.jpg
ORGANIZER;CN="ACTECIR":MAILTO:actecir@actecir.cat
END:VEVENT
BEGIN:VEVENT
DTSTART;TZID=Europe/Madrid:20211213T160000
DTEND;TZID=Europe/Madrid:20211213T200000
DTSTAMP:20260425T005558
CREATED:20230626T114132Z
LAST-MODIFIED:20230626T114132Z
UID:10001222-1639411200-1639425600@www.actecir.cat
SUMMARY:2º Curs d'Instal.lacions Frigorífiques amb Amoníac com a refrigerant
DESCRIPTION:Totes les dates\n\n\n13/12/2021\n29/11/2021\n22/11/2021\n15/11/2021\n08/11/2021\n02/11/2021
URL:https://www.actecir.cat/event/2o-curs-dinstal-lacions-frigorifiques-amb-amoniac-com-a-refrigerant/2021-12-13/
LOCATION:Mixta: Online / Presencial
CATEGORIES:Curs
ATTACH;FMTTYPE=image/png:https://www.actecir.cat/wp-content/uploads/2023/06/curso_amoniaco_web_cat.png
ORGANIZER;CN="ACTECIR":MAILTO:actecir@actecir.cat
END:VEVENT
BEGIN:VEVENT
DTSTART;TZID=Europe/Madrid:20211130T160000
DTEND;TZID=Europe/Madrid:20211130T200000
DTSTAMP:20260425T005558
CREATED:20230626T134244Z
LAST-MODIFIED:20230626T134244Z
UID:10001239-1638288000-1638302400@www.actecir.cat
SUMMARY:1r Curs de Disseny i Càlcul d’Instal·lacions de Climatització i Ventilació
DESCRIPTION:Totes les dates\n\n\n30/11/2021\n25/11/2021\n23/11/2021\n11/11/2021\n28/10/2021\n26/10/2021\n21/10/2021
URL:https://www.actecir.cat/event/1r-curs-de-disseny-i-calcul-dinstallacions-de-climatitzacio-i-ventilacio/2021-11-30/
LOCATION:Mixta: Online / Presencial
CATEGORIES:Curs
ATTACH;FMTTYPE=image/png:https://www.actecir.cat/wp-content/uploads/2023/04/CURS_clima_INICI.png
ORGANIZER;CN="ACTECIR":MAILTO:actecir@actecir.cat
END:VEVENT
END:VCALENDAR